BEGIN:VCALENDAR
VERSION:2.0
PRODID:-//Offroad Hybrid Campers and Caravans - ECPv6.15.20//NONSGML v1.0//EN
CALSCALE:GREGORIAN
METHOD:PUBLISH
X-WR-CALNAME:Offroad Hybrid Campers and Caravans
X-ORIGINAL-URL:https://www.austrackcampers.com.au
X-WR-CALDESC:Events for Offroad Hybrid Campers and Caravans
REFRESH-INTERVAL;VALUE=DURATION:PT1H
X-Robots-Tag:noindex
X-PUBLISHED-TTL:PT1H
BEGIN:VTIMEZONE
TZID:Australia/Sydney
BEGIN:STANDARD
TZOFFSETFROM:+1100
TZOFFSETTO:+1000
TZNAME:AEST
DTSTART:20250405T160000
END:STANDARD
BEGIN:DAYLIGHT
TZOFFSETFROM:+1000
TZOFFSETTO:+1100
TZNAME:AEDT
DTSTART:20251004T160000
END:DAYLIGHT
BEGIN:STANDARD
TZOFFSETFROM:+1100
TZOFFSETTO:+1000
TZNAME:AEST
DTSTART:20260404T160000
END:STANDARD
BEGIN:DAYLIGHT
TZOFFSETFROM:+1000
TZOFFSETTO:+1100
TZNAME:AEDT
DTSTART:20261003T160000
END:DAYLIGHT
BEGIN:STANDARD
TZOFFSETFROM:+1100
TZOFFSETTO:+1000
TZNAME:AEST
DTSTART:20270403T160000
END:STANDARD
BEGIN:DAYLIGHT
TZOFFSETFROM:+1000
TZOFFSETTO:+1100
TZNAME:AEDT
DTSTART:20271002T160000
END:DAYLIGHT
END:VTIMEZONE
BEGIN:VEVENT
DTSTART;TZID=Australia/Sydney:20260612T090000
DTEND;TZID=Australia/Sydney:20260614T160000
DTSTAMP:20260422T000756
CREATED:20260413T051238Z
LAST-MODIFIED:20260413T051658Z
UID:10000275-1781254800-1781452800@www.austrackcampers.com.au
SUMMARY:Sydney Caravan & Camping Supershow
DESCRIPTION:Come see us at site 515 and 519
URL:https://www.austrackcampers.com.au/event/sydney-caravan-camping-supershow/
LOCATION:Sydney Showground\, 1 Showground road\, Sydney Olympic Park\, 2127\, Australia
ATTACH;FMTTYPE=image/png:https://www.austrackcampers.com.au/wp-content/uploads/2026/04/SQUARE-2.png
END:VEVENT
END:VCALENDAR