BEGIN:VCALENDAR
VERSION:2.0
PRODID:-//Offroad Hybrid Campers and Caravans - ECPv6.15.20//NONSGML v1.0//EN
CALSCALE:GREGORIAN
METHOD:PUBLISH
X-WR-CALNAME:Offroad Hybrid Campers and Caravans
X-ORIGINAL-URL:https://www.austrackcampers.com.au
X-WR-CALDESC:Events for Offroad Hybrid Campers and Caravans
REFRESH-INTERVAL;VALUE=DURATION:PT1H
X-Robots-Tag:noindex
X-PUBLISHED-TTL:PT1H
BEGIN:VTIMEZONE
TZID:Australia/Brisbane
BEGIN:STANDARD
TZOFFSETFROM:+1000
TZOFFSETTO:+1000
TZNAME:AEST
DTSTART:20240101T000000
END:STANDARD
END:VTIMEZONE
BEGIN:VTIMEZONE
TZID:Australia/Sydney
BEGIN:STANDARD
TZOFFSETFROM:+1100
TZOFFSETTO:+1000
TZNAME:AEST
DTSTART:20240406T160000
END:STANDARD
BEGIN:DAYLIGHT
TZOFFSETFROM:+1000
TZOFFSETTO:+1100
TZNAME:AEDT
DTSTART:20241005T160000
END:DAYLIGHT
BEGIN:STANDARD
TZOFFSETFROM:+1100
TZOFFSETTO:+1000
TZNAME:AEST
DTSTART:20250405T160000
END:STANDARD
BEGIN:DAYLIGHT
TZOFFSETFROM:+1000
TZOFFSETTO:+1100
TZNAME:AEDT
DTSTART:20251004T160000
END:DAYLIGHT
BEGIN:STANDARD
TZOFFSETFROM:+1100
TZOFFSETTO:+1000
TZNAME:AEST
DTSTART:20260404T160000
END:STANDARD
BEGIN:DAYLIGHT
TZOFFSETFROM:+1000
TZOFFSETTO:+1100
TZNAME:AEDT
DTSTART:20261003T160000
END:DAYLIGHT
BEGIN:STANDARD
TZOFFSETFROM:+1100
TZOFFSETTO:+1000
TZNAME:AEST
DTSTART:20270403T160000
END:STANDARD
BEGIN:DAYLIGHT
TZOFFSETFROM:+1000
TZOFFSETTO:+1100
TZNAME:AEDT
DTSTART:20271002T160000
END:DAYLIGHT
END:VTIMEZONE
BEGIN:VTIMEZONE
TZID:Australia/Perth
BEGIN:STANDARD
TZOFFSETFROM:+0800
TZOFFSETTO:+0800
TZNAME:AWST
DTSTART:20240101T000000
END:STANDARD
END:VTIMEZONE
BEGIN:VTIMEZONE
TZID:Australia/Adelaide
BEGIN:STANDARD
TZOFFSETFROM:+1030
TZOFFSETTO:+0930
TZNAME:ACST
DTSTART:20240406T163000
END:STANDARD
BEGIN:DAYLIGHT
TZOFFSETFROM:+0930
TZOFFSETTO:+1030
TZNAME:ACDT
DTSTART:20241005T163000
END:DAYLIGHT
BEGIN:STANDARD
TZOFFSETFROM:+1030
TZOFFSETTO:+0930
TZNAME:ACST
DTSTART:20250405T163000
END:STANDARD
BEGIN:DAYLIGHT
TZOFFSETFROM:+0930
TZOFFSETTO:+1030
TZNAME:ACDT
DTSTART:20251004T163000
END:DAYLIGHT
BEGIN:STANDARD
TZOFFSETFROM:+1030
TZOFFSETTO:+0930
TZNAME:ACST
DTSTART:20260404T163000
END:STANDARD
BEGIN:DAYLIGHT
TZOFFSETFROM:+0930
TZOFFSETTO:+1030
TZNAME:ACDT
DTSTART:20261003T163000
END:DAYLIGHT
END:VTIMEZONE
BEGIN:VTIMEZONE
TZID:Australia/Melbourne
BEGIN:STANDARD
TZOFFSETFROM:+1100
TZOFFSETTO:+1000
TZNAME:AEST
DTSTART:20240406T160000
END:STANDARD
BEGIN:DAYLIGHT
TZOFFSETFROM:+1000
TZOFFSETTO:+1100
TZNAME:AEDT
DTSTART:20241005T160000
END:DAYLIGHT
BEGIN:STANDARD
TZOFFSETFROM:+1100
TZOFFSETTO:+1000
TZNAME:AEST
DTSTART:20250405T160000
END:STANDARD
BEGIN:DAYLIGHT
TZOFFSETFROM:+1000
TZOFFSETTO:+1100
TZNAME:AEDT
DTSTART:20251004T160000
END:DAYLIGHT
BEGIN:STANDARD
TZOFFSETFROM:+1100
TZOFFSETTO:+1000
TZNAME:AEST
DTSTART:20260404T160000
END:STANDARD
BEGIN:DAYLIGHT
TZOFFSETFROM:+1000
TZOFFSETTO:+1100
TZNAME:AEDT
DTSTART:20261003T160000
END:DAYLIGHT
BEGIN:STANDARD
TZOFFSETFROM:+1100
TZOFFSETTO:+1000
TZNAME:AEST
DTSTART:20270403T160000
END:STANDARD
BEGIN:DAYLIGHT
TZOFFSETFROM:+1000
TZOFFSETTO:+1100
TZNAME:AEDT
DTSTART:20271002T160000
END:DAYLIGHT
END:VTIMEZONE
BEGIN:VEVENT
DTSTART;TZID=Australia/Brisbane:20250808T090000
DTEND;TZID=Australia/Brisbane:20250810T160000
DTSTAMP:20260421T021017
CREATED:20251209T045653Z
LAST-MODIFIED:20251209T045800Z
UID:10000226-1754643600-1754841600@www.austrackcampers.com.au
SUMMARY:Melbourne Outdoor Living and Caravan Expo
DESCRIPTION:Come see us at site TN95-96
URL:https://www.austrackcampers.com.au/event/melbourne-outdoor-living-and-caravan-expo/
LOCATION:Event Central at Caribbean Park\, 1280 Ferntree Gully Road\, Scoresby\, VIC\, 3179\, Australia
ATTACH;FMTTYPE=image/png:https://www.austrackcampers.com.au/wp-content/uploads/2025/07/TEMPLATE_show-tile_square-27.png
END:VEVENT
BEGIN:VEVENT
DTSTART;TZID=Australia/Brisbane:20250815T090000
DTEND;TZID=Australia/Brisbane:20250817T160000
DTSTAMP:20260421T021017
CREATED:20251209T045653Z
LAST-MODIFIED:20251209T045800Z
UID:10000227-1755248400-1755446400@www.austrackcampers.com.au
SUMMARY:Shepparton Outdoor Living and Caravan Expo
DESCRIPTION:Come see us at site P03 + P04
URL:https://www.austrackcampers.com.au/event/shepparton-outdoor-living-and-caravan-expo/
LOCATION:Shepparton Showgrounds\, High Street\, Shepparton\, VIC\, 3630\, Australia
ATTACH;FMTTYPE=image/png:https://www.austrackcampers.com.au/wp-content/uploads/2025/07/TEMPLATE_show-tile_square-28.png
END:VEVENT
BEGIN:VEVENT
DTSTART;TZID=Australia/Brisbane:20250822T090000
DTEND;TZID=Australia/Brisbane:20250824T160000
DTSTAMP:20260421T021017
CREATED:20251209T045653Z
LAST-MODIFIED:20251209T045800Z
UID:10000229-1755853200-1756051200@www.austrackcampers.com.au
SUMMARY:Let's Go Sunshine Coast Caravan & Outdoor Expo
DESCRIPTION:Come see us at site 500
URL:https://www.austrackcampers.com.au/event/lets-go-sunshine-coast-caravan-outdoor-expo/
LOCATION:Nambour Showgrounds\, Coronation Ave\, Nambour\, QLD\, 4560\, Australia
ATTACH;FMTTYPE=image/png:https://www.austrackcampers.com.au/wp-content/uploads/2025/07/SHOW-TILE-MOBILE-2.png
END:VEVENT
BEGIN:VEVENT
DTSTART;TZID=Australia/Brisbane:20250822T090000
DTEND;TZID=Australia/Brisbane:20250824T160000
DTSTAMP:20260421T021017
CREATED:20251209T045653Z
LAST-MODIFIED:20251209T045800Z
UID:10000228-1755853200-1756051200@www.austrackcampers.com.au
SUMMARY:Melbourne National 4x4 Outdoors Show
DESCRIPTION:Come see us at site TS306
URL:https://www.austrackcampers.com.au/event/melbourne-national-4x4-outdoors-show/
LOCATION:Melbourne Showgrounds\, Epsom Road\, Ascot Vale\, VIC\, 3032\, Australia
ATTACH;FMTTYPE=image/png:https://www.austrackcampers.com.au/wp-content/uploads/2025/07/2.png
END:VEVENT
BEGIN:VEVENT
DTSTART;TZID=Australia/Sydney:20250829T083000
DTEND;TZID=Australia/Sydney:20250831T160000
DTSTAMP:20260421T021017
CREATED:20251209T045653Z
LAST-MODIFIED:20251209T045800Z
UID:10000230-1756456200-1756656000@www.austrackcampers.com.au
SUMMARY:Newcastle Outdoor Adventure & Lifestyle Expo
DESCRIPTION:Come see us at site 345-337
URL:https://www.austrackcampers.com.au/event/newcastle-outdoor-adventure-lifestyle-expo/
LOCATION:Newcastle Entertainment Centre & Showgrounds\, Brown Road\, Broadmeadow\, 2292\, Australia
ATTACH;FMTTYPE=image/png:https://www.austrackcampers.com.au/wp-content/uploads/2025/07/12.png
END:VEVENT
BEGIN:VEVENT
DTSTART;VALUE=DATE:20250912
DTEND;VALUE=DATE:20250915
DTSTAMP:20260421T021017
CREATED:20251209T045653Z
LAST-MODIFIED:20251209T045800Z
UID:10000231-1757635200-1757894399@www.austrackcampers.com.au
SUMMARY:Sydney 4WD & Adventure Show
DESCRIPTION:Come see us at site F43-F46
URL:https://www.austrackcampers.com.au/event/sydney-4wd-and-adventure-show/
LOCATION:Sydney Dragway\, Ferrers Road\, Eastern Creek\, NSW\, 2766\, Australia
ATTACH;FMTTYPE=image/jpeg:https://www.austrackcampers.com.au/wp-content/uploads/2025/08/TEMPLATE_show-tile_square-5.jpg
END:VEVENT
BEGIN:VEVENT
DTSTART;VALUE=DATE:20250918
DTEND;VALUE=DATE:20250922
DTSTAMP:20260421T021018
CREATED:20251209T045653Z
LAST-MODIFIED:20251209T045800Z
UID:10000233-1758153600-1758499199@www.austrackcampers.com.au
SUMMARY:Melbourne Caravan & Camping Leisurefest
DESCRIPTION:Come visit us!
URL:https://www.austrackcampers.com.au/event/melbourne-caravan-camping-leisurefest-2/
LOCATION:Sandown Racecourse\, Sandown Rd\, Clayton South\, VIC\, 3171\, Australia
ATTACH;FMTTYPE=image/jpeg:https://www.austrackcampers.com.au/wp-content/uploads/2025/08/TEMPLATE_show-tile_square-7.jpg
END:VEVENT
BEGIN:VEVENT
DTSTART;VALUE=DATE:20250919
DTEND;VALUE=DATE:20250922
DTSTAMP:20260421T021018
CREATED:20251209T045654Z
LAST-MODIFIED:20251209T045800Z
UID:10000234-1758240000-1758499199@www.austrackcampers.com.au
SUMMARY:Orana Outdoor Show
DESCRIPTION:Come visit us!
URL:https://www.austrackcampers.com.au/event/orana-outdoor-show-2025/
LOCATION:Dubbo Showground\, 191 Fitzroy Street\, Dubbo\, NSW\, 2830\, Australia
ATTACH;FMTTYPE=image/jpeg:https://www.austrackcampers.com.au/wp-content/uploads/2025/09/TEMPLATE_show-tile_square-2.jpg
END:VEVENT
BEGIN:VEVENT
DTSTART;VALUE=DATE:20250919
DTEND;VALUE=DATE:20250922
DTSTAMP:20260421T021018
CREATED:20251209T045654Z
LAST-MODIFIED:20251209T045800Z
UID:10000235-1758240000-1758499199@www.austrackcampers.com.au
SUMMARY:Cleveland Caravan\, Camping\, Boating & 4x4 Expo
DESCRIPTION:Come visit us!
URL:https://www.austrackcampers.com.au/event/cleveland-caravan-camping-boating-4x4-expo/
LOCATION:Redlands Showgrounds\, 171 Long St\, Cleveland\, QLD\, 4163\, Australia
ATTACH;FMTTYPE=image/jpeg:https://www.austrackcampers.com.au/wp-content/uploads/2025/09/TEMPLATE_show-tile_square-3.jpg
END:VEVENT
BEGIN:VEVENT
DTSTART;VALUE=DATE:20250920
DTEND;VALUE=DATE:20250922
DTSTAMP:20260421T021018
CREATED:20251209T045654Z
LAST-MODIFIED:20251209T045800Z
UID:10000232-1758326400-1758499199@www.austrackcampers.com.au
SUMMARY:Busselton Caravan & Camping Show
DESCRIPTION:Come visit us!
URL:https://www.austrackcampers.com.au/event/busselton-caravan-camping-show-2/
LOCATION:Churchill Park\, 85 Adelaide St\, BUSSELTON\, WA\, 6280\, Australia
ATTACH;FMTTYPE=image/jpeg:https://www.austrackcampers.com.au/wp-content/uploads/2025/08/TEMPLATE_show-tile_square-6.jpg
END:VEVENT
BEGIN:VEVENT
DTSTART;VALUE=DATE:20250926
DTEND;VALUE=DATE:20250929
DTSTAMP:20260421T021018
CREATED:20251209T045654Z
LAST-MODIFIED:20251209T045800Z
UID:10000236-1758844800-1759103999@www.austrackcampers.com.au
SUMMARY:Sunshine Coast Expo
DESCRIPTION:Come visit us!
URL:https://www.austrackcampers.com.au/event/sunshine-coast-expo-3/
LOCATION:Kawana Sports Precinct\, 320 Nicklin Way\, Bokarina\, QLD\, 4575\, Australia
ATTACH;FMTTYPE=image/jpeg:https://www.austrackcampers.com.au/wp-content/uploads/2025/09/TEMPLATE_show-tile_square-4.jpg
END:VEVENT
BEGIN:VEVENT
DTSTART;VALUE=DATE:20251010
DTEND;VALUE=DATE:20251013
DTSTAMP:20260421T021018
CREATED:20251209T045654Z
LAST-MODIFIED:20251209T045800Z
UID:10000237-1760054400-1760313599@www.austrackcampers.com.au
SUMMARY:Mandurah Boat\, Caravan\, 4WD & Camping Show
DESCRIPTION:Come visit us!
URL:https://www.austrackcampers.com.au/event/mandurah-boat-caravan-4wd-camping-show-2/
LOCATION:Rushton Park\, 21 Dower Street\, Mandurah\, WA\, 6210\, Australia
ATTACH;FMTTYPE=image/jpeg:https://www.austrackcampers.com.au/wp-content/uploads/2025/09/TEMPLATE_show-tile_square-4-1.jpg
END:VEVENT
BEGIN:VEVENT
DTSTART;VALUE=DATE:20251017
DTEND;VALUE=DATE:20251020
DTSTAMP:20260421T021018
CREATED:20251209T045654Z
LAST-MODIFIED:20251209T045800Z
UID:10000238-1760659200-1760918399@www.austrackcampers.com.au
SUMMARY:Traralgon Outdoor Living and Caravan Expo
DESCRIPTION:Come visit us!
URL:https://www.austrackcampers.com.au/event/traralgon-outdoor-living-and-caravan-expo/
LOCATION:Traralgon Racecorse\, 110 McNairn Road\, Traralgon\, VIC\, 3844\, Australia
ATTACH;FMTTYPE=image/jpeg:https://www.austrackcampers.com.au/wp-content/uploads/2025/09/TEMPLATE_show-tile_square-6.jpg
END:VEVENT
BEGIN:VEVENT
DTSTART;VALUE=DATE:20251024
DTEND;VALUE=DATE:20251027
DTSTAMP:20260421T021018
CREATED:20251209T045654Z
LAST-MODIFIED:20251209T045801Z
UID:10000239-1761264000-1761523199@www.austrackcampers.com.au
SUMMARY:Bundaberg Outdoor Living and Caravan Expo
DESCRIPTION:Come visit us!
URL:https://www.austrackcampers.com.au/event/bundaberg-outdoor-living-and-caravan-expo/
LOCATION:Bundaberg Recreational Precinct\, University Drive\, Branyan\, QLD\, 4670\, Australia
ATTACH;FMTTYPE=image/jpeg:https://www.austrackcampers.com.au/wp-content/uploads/2025/09/TEMPLATE_show-tile_square-7.jpg
END:VEVENT
BEGIN:VEVENT
DTSTART;VALUE=DATE:20251024
DTEND;VALUE=DATE:20251027
DTSTAMP:20260421T021018
CREATED:20251209T045654Z
LAST-MODIFIED:20251209T045801Z
UID:10000240-1761264000-1761523199@www.austrackcampers.com.au
SUMMARY:Canberra Caravan Lifestyle Expo
DESCRIPTION:Come visit us!
URL:https://www.austrackcampers.com.au/event/canberra-caravan-lifestyle-expo/
LOCATION:Exhibition Park in Canberra\, Cnr Northbourne Av &\, Flemington Rd\, Mitchell\, ACT\, 2911\, Australia
ATTACH;FMTTYPE=image/jpeg:https://www.austrackcampers.com.au/wp-content/uploads/2025/09/TEMPLATE_show-tile_square-8.jpg
END:VEVENT
BEGIN:VEVENT
DTSTART;VALUE=DATE:20251024
DTEND;VALUE=DATE:20251027
DTSTAMP:20260421T021018
CREATED:20251209T045654Z
LAST-MODIFIED:20251209T045801Z
UID:10000241-1761264000-1761523199@www.austrackcampers.com.au
SUMMARY:Adelaide 4WD & Adventure Show
DESCRIPTION:Come visit us!
URL:https://www.austrackcampers.com.au/event/adelaide-4wd-adventure-show-2/
LOCATION:Adelaide Showground\, Goodwood Road\, Wayville\, SA\, 5034\, Australia
ATTACH;FMTTYPE=image/jpeg:https://www.austrackcampers.com.au/wp-content/uploads/2025/09/TEMPLATE_show-tile_square-9.jpg
END:VEVENT
BEGIN:VEVENT
DTSTART;VALUE=DATE:20251030
DTEND;VALUE=DATE:20251103
DTSTAMP:20260421T021018
CREATED:20251209T045654Z
LAST-MODIFIED:20251209T045801Z
UID:10000242-1761782400-1762127999@www.austrackcampers.com.au
SUMMARY:The Let’s Go Explore Caravan & RV Expo
DESCRIPTION:Come visit us!
URL:https://www.austrackcampers.com.au/event/the-lets-go-explore-caravan-rv-expo/
LOCATION:Brisbane Showgrounds\, 600 Gregory Terrace\, Bowen Hills\, QLD\, 4006\, Australia
ATTACH;FMTTYPE=image/jpeg:https://www.austrackcampers.com.au/wp-content/uploads/2025/09/TEMPLATE_show-tile_square-10.jpg
END:VEVENT
BEGIN:VEVENT
DTSTART;VALUE=DATE:20251107
DTEND;VALUE=DATE:20251110
DTSTAMP:20260421T021018
CREATED:20251209T045654Z
LAST-MODIFIED:20251209T045801Z
UID:10000245-1762473600-1762732799@www.austrackcampers.com.au
SUMMARY:Lake Macquarie Outdoor Living & Caravan Expo
DESCRIPTION:Come visit us!
URL:https://www.austrackcampers.com.au/event/lake-macquarie-outdoor-living-caravan-expo/
LOCATION:Morisset Showground\, 40 Ourimbah Street\, Morisset\, NSW\, 2264\, Australia
ATTACH;FMTTYPE=image/png:https://www.austrackcampers.com.au/wp-content/uploads/2025/10/Lake-Macquarie_show-tile_square-1.png
END:VEVENT
BEGIN:VEVENT
DTSTART;VALUE=DATE:20251107
DTEND;VALUE=DATE:20251110
DTSTAMP:20260421T021018
CREATED:20251209T045654Z
LAST-MODIFIED:20251209T045801Z
UID:10000244-1762473600-1762732799@www.austrackcampers.com.au
SUMMARY:Perth 4WD and Adventure Show
DESCRIPTION:Come visit us!
URL:https://www.austrackcampers.com.au/event/perth-4wd-and-adventure-show-2/
LOCATION:McCallum Park\, Garland Street\, Victoria Park\, WA\, 6100\, Australia
ATTACH;FMTTYPE=image/png:https://www.austrackcampers.com.au/wp-content/uploads/2025/10/PERTH_show-tile_square.png
END:VEVENT
BEGIN:VEVENT
DTSTART;VALUE=DATE:20251114
DTEND;VALUE=DATE:20251117
DTSTAMP:20260421T021018
CREATED:20251209T045654Z
LAST-MODIFIED:20251209T045801Z
UID:10000246-1763078400-1763337599@www.austrackcampers.com.au
SUMMARY:Mount Barker Outdoor Living & Caravan Expo
DESCRIPTION:Come visit us!
URL:https://www.austrackcampers.com.au/event/mount-barker-outdoor-living-caravan-expo/
LOCATION:Summit Sport & Recreation Park\, 304 Springs Road\, Mount Barker Summit\, SA\, 5251\, Australia
ATTACH;FMTTYPE=image/png:https://www.austrackcampers.com.au/wp-content/uploads/2025/10/MOUNT-BARKER_show-tile_square.png
END:VEVENT
BEGIN:VEVENT
DTSTART;VALUE=DATE:20251121
DTEND;VALUE=DATE:20251124
DTSTAMP:20260421T021018
CREATED:20251209T045655Z
LAST-MODIFIED:20251209T045802Z
UID:10000247-1763683200-1763942399@www.austrackcampers.com.au
SUMMARY:Bendigo Caravan & Camping Leisurefest
DESCRIPTION:Come visit us!
URL:https://www.austrackcampers.com.au/event/bendigo-caravan-camping-leisurefest-2/
LOCATION:Bendigo Racecourse\, Strathdale-White Hills Rd\, Ascot\, VIC 3551\, Bendigo\, 3550\, AU
ATTACH;FMTTYPE=image/png:https://www.austrackcampers.com.au/wp-content/uploads/2025/10/Bendigo_show-tile_square.png
END:VEVENT
BEGIN:VEVENT
DTSTART;VALUE=DATE:20251128
DTEND;VALUE=DATE:20251201
DTSTAMP:20260421T021018
CREATED:20251209T045655Z
LAST-MODIFIED:20251209T045802Z
UID:10000243-1764288000-1764547199@www.austrackcampers.com.au
SUMMARY:Geelong Caravanning & Adventure Leisurefest
DESCRIPTION:Come visit us!
URL:https://www.austrackcampers.com.au/event/geelong-caravanning-adventure-leisurefest/
LOCATION:Geelong Racecourse\, 99 Breakwater Road\, Breakwater\, VIC\, 3219\, Australia
ATTACH;FMTTYPE=image/png:https://www.austrackcampers.com.au/wp-content/uploads/2025/10/Geelong.png
END:VEVENT
BEGIN:VEVENT
DTSTART;TZID=Australia/Melbourne:20260116T090000
DTEND;TZID=Australia/Melbourne:20260118T160000
DTSTAMP:20260421T021018
CREATED:20251216T011040Z
LAST-MODIFIED:20251216T011040Z
UID:10000249-1768554000-1768752000@www.austrackcampers.com.au
SUMMARY:Geelong Outdoor Living & Caravan Expo
DESCRIPTION:
URL:https://www.austrackcampers.com.au/event/geelong-outdoor-living-caravan-expo-3/
LOCATION:Geelong Showground\, 79 Breakwater Road\, East Geelong\, 3220\, Australia
ATTACH;FMTTYPE=image/jpeg:https://www.austrackcampers.com.au/wp-content/uploads/2025/12/Geelong_square_web.jpg
END:VEVENT
BEGIN:VEVENT
DTSTART;TZID=Australia/Sydney:20260130T090000
DTEND;TZID=Australia/Sydney:20260201T160000
DTSTAMP:20260421T021018
CREATED:20251216T011744Z
LAST-MODIFIED:20251216T011744Z
UID:10000250-1769763600-1769961600@www.austrackcampers.com.au
SUMMARY:Newcastle Caravan Lifestyle Expo
DESCRIPTION:
URL:https://www.austrackcampers.com.au/event/newcastle-caravan-lifestyle-expo/
LOCATION:Newcastle Entertainment Centre & Showgrounds\, Brown Road\, Broadmeadow\, 2292\, Australia
ATTACH;FMTTYPE=image/png:https://www.austrackcampers.com.au/wp-content/uploads/2025/12/Newcastle_square.png
END:VEVENT
BEGIN:VEVENT
DTSTART;TZID=Australia/Brisbane:20260206T090000
DTEND;TZID=Australia/Brisbane:20260208T160000
DTSTAMP:20260421T021018
CREATED:20251216T035021Z
LAST-MODIFIED:20251216T035040Z
UID:10000252-1770368400-1770566400@www.austrackcampers.com.au
SUMMARY:Let's Go Gold Coast Caravan & Outdoor Expo
DESCRIPTION:
URL:https://www.austrackcampers.com.au/event/lets-go-gold-coast-caravan-outdoor-expo-3/
LOCATION:People First Stadium\, Nerang-Broadbeach Road\, CARRARA\, QLD\, 4211\, Australia
ATTACH;FMTTYPE=image/jpeg:https://www.austrackcampers.com.au/wp-content/uploads/2025/12/GoldCoast_square_web.jpg
END:VEVENT
BEGIN:VEVENT
DTSTART;TZID=Australia/Sydney:20260206T090000
DTEND;TZID=Australia/Sydney:20260208T160000
DTSTAMP:20260421T021018
CREATED:20251216T043657Z
LAST-MODIFIED:20251216T043657Z
UID:10000258-1770368400-1770566400@www.austrackcampers.com.au
SUMMARY:Wagga Wagga Caravan and Outdoor Leisure Roadshow
DESCRIPTION:
URL:https://www.austrackcampers.com.au/event/wagga-wagga-caravan-and-outdoor-leisure-roadshow/
LOCATION:Range Gardens and Exhibition Centre\, 308 Copland Street\, East Wagga Wagga\, NSW\, 2650\, Australia
ATTACH;FMTTYPE=image/jpeg:https://www.austrackcampers.com.au/wp-content/uploads/2025/12/WaggaWagga_square_web.jpg
END:VEVENT
BEGIN:VEVENT
DTSTART;TZID=Australia/Brisbane:20260213T083000
DTEND;TZID=Australia/Brisbane:20260215T160000
DTSTAMP:20260421T021018
CREATED:20251216T035347Z
LAST-MODIFIED:20251216T035347Z
UID:10000253-1770971400-1771171200@www.austrackcampers.com.au
SUMMARY:Moreton Bay Expo
DESCRIPTION:
URL:https://www.austrackcampers.com.au/event/moreton-bay-expo/
LOCATION:Redcliffe Showgrounds\, Scarborough Road\, Redcliffe\, 4020\, Australia
ATTACH;FMTTYPE=image/jpeg:https://www.austrackcampers.com.au/wp-content/uploads/2025/12/MoretonBay_square_web.jpg
END:VEVENT
BEGIN:VEVENT
DTSTART;TZID=Australia/Sydney:20260214T090000
DTEND;TZID=Australia/Sydney:20260215T160000
DTSTAMP:20260421T021018
CREATED:20251216T040706Z
LAST-MODIFIED:20251216T040706Z
UID:10000255-1771059600-1771171200@www.austrackcampers.com.au
SUMMARY:Queanbeyan Outdoor Living\, 4WD & Caravan Expo
DESCRIPTION:
URL:https://www.austrackcampers.com.au/event/queanbeyan-outdoor-living-4wd-caravan-expo/
LOCATION:Queanbeyan Showground\, Glebe Avenue\, Queanbeyan\, NSW\, 2620\, Australia
ATTACH;FMTTYPE=image/jpeg:https://www.austrackcampers.com.au/wp-content/uploads/2025/12/Queanbeyan_square_web.jpg
END:VEVENT
BEGIN:VEVENT
DTSTART;TZID=Australia/Brisbane:20260218T090000
DTEND;TZID=Australia/Brisbane:20260222T160000
DTSTAMP:20260421T021018
CREATED:20251216T043148Z
LAST-MODIFIED:20251216T043148Z
UID:10000257-1771405200-1771776000@www.austrackcampers.com.au
SUMMARY:Victorian Supershow Caravan & Camping
DESCRIPTION:
URL:https://www.austrackcampers.com.au/event/victorian-supershow-caravan-camping/
LOCATION:Melbourne Showgrounds\, Epsom Road\, Ascot Vale\, VIC\, 3032\, Australia
ATTACH;FMTTYPE=image/jpeg:https://www.austrackcampers.com.au/wp-content/uploads/2025/12/Victoria_square_web.jpg
END:VEVENT
BEGIN:VEVENT
DTSTART;TZID=Australia/Brisbane:20260225T080000
DTEND;TZID=Australia/Brisbane:20260301T160000
DTSTAMP:20260421T021018
CREATED:20251216T041326Z
LAST-MODIFIED:20251216T041326Z
UID:10000256-1772006400-1772380800@www.austrackcampers.com.au
SUMMARY:South Australia's Caravan\, Camping & Outdoor Show
DESCRIPTION:
URL:https://www.austrackcampers.com.au/event/south-australias-caravan-camping-outdoor-show/
LOCATION:Adelaide Showground\, Goodwood Road\, Wayville\, SA\, 5034\, Australia
ATTACH;FMTTYPE=image/jpeg:https://www.austrackcampers.com.au/wp-content/uploads/2025/12/SouthAustralia_square_web.jpg
END:VEVENT
END:VCALENDAR