BEGIN:VCALENDAR
VERSION:2.0
PRODID:-//Offroad Hybrid Campers and Caravans - ECPv6.15.20//NONSGML v1.0//EN
CALSCALE:GREGORIAN
METHOD:PUBLISH
X-ORIGINAL-URL:https://www.austrackcampers.com.au
X-WR-CALDESC:Events for Offroad Hybrid Campers and Caravans
REFRESH-INTERVAL;VALUE=DURATION:PT1H
X-Robots-Tag:noindex
X-PUBLISHED-TTL:PT1H
BEGIN:VTIMEZONE
TZID:Australia/Brisbane
BEGIN:STANDARD
TZOFFSETFROM:+1000
TZOFFSETTO:+1000
TZNAME:AEST
DTSTART:20230101T000000
END:STANDARD
END:VTIMEZONE
BEGIN:VEVENT
DTSTART;TZID=Australia/Brisbane:20241108T083000
DTEND;TZID=Australia/Brisbane:20241110T170000
DTSTAMP:20260421T083249
CREATED:20251209T045650Z
LAST-MODIFIED:20251209T045757Z
UID:10000188-1731054600-1731258000@www.austrackcampers.com.au
SUMMARY:Perth 4WD & Adventure Show
DESCRIPTION:Come see us at site 100
URL:https://www.austrackcampers.com.au/event/perth-4wd-adventure-show/
LOCATION:McCallum Park\, Garland Street\, Victoria Park\, WA\, 6100\, Australia
END:VEVENT
BEGIN:VEVENT
DTSTART;TZID=Australia/Brisbane:20241031T090000
DTEND;TZID=Australia/Brisbane:20241103T170000
DTSTAMP:20260421T083249
CREATED:20251209T045650Z
LAST-MODIFIED:20251209T045757Z
UID:10000187-1730365200-1730653200@www.austrackcampers.com.au
SUMMARY:Lets Go Brisbane Caravan & Outdoor Sale
DESCRIPTION:Come see us at site 2609
URL:https://www.austrackcampers.com.au/event/lets-go-brisbane-caravan-outdoor-sale-2/
LOCATION:Brisbane Showgrounds\, 600 Gregory Terrace\, Bowen Hills\, QLD\, 4006\, Australia
END:VEVENT
BEGIN:VEVENT
DTSTART;TZID=Australia/Brisbane:20241025T090000
DTEND;TZID=Australia/Brisbane:20241027T170000
DTSTAMP:20260421T083249
CREATED:20251209T045650Z
LAST-MODIFIED:20251209T045757Z
UID:10000186-1729846800-1730048400@www.austrackcampers.com.au
SUMMARY:Adelaide 4WD & Adventure Show
DESCRIPTION:Come see us at site H48
URL:https://www.austrackcampers.com.au/event/adelaide-4wd-adventure-show/
LOCATION:Adelaide Showground\, Goodwood Road\, Wayville\, SA\, 5034\, Australia
END:VEVENT
BEGIN:VEVENT
DTSTART;TZID=Australia/Brisbane:20241025T090000
DTEND;TZID=Australia/Brisbane:20241027T160000
DTSTAMP:20260421T083249
CREATED:20251209T045650Z
LAST-MODIFIED:20251209T045757Z
UID:10000185-1729846800-1730044800@www.austrackcampers.com.au
SUMMARY:Canberra Caravan Camping Lifestyle Expo
DESCRIPTION:Come see us at site 222
URL:https://www.austrackcampers.com.au/event/canberra-caravan-camping-lifestyle-expo-2/
LOCATION:Exhibition Park in Canberra\, Cnr Northbourne Av &\, Flemington Rd\, Mitchell\, ACT\, 2911\, Australia
END:VEVENT
BEGIN:VEVENT
DTSTART;TZID=Australia/Brisbane:20241019T090000
DTEND;TZID=Australia/Brisbane:20241020T160000
DTSTAMP:20260421T083249
CREATED:20251209T045650Z
LAST-MODIFIED:20251209T045757Z
UID:10000183-1729328400-1729440000@www.austrackcampers.com.au
SUMMARY:SSAA SHOT Expo
DESCRIPTION:Come see us at (site TBA)
URL:https://www.austrackcampers.com.au/event/ssaa-shot-expo/
LOCATION:Melbourne Showgrounds\, Epsom Road\, Ascot Vale\, VIC\, 3032\, Australia
END:VEVENT
BEGIN:VEVENT
DTSTART;TZID=Australia/Brisbane:20241019T080000
DTEND;TZID=Australia/Brisbane:20241020T160000
DTSTAMP:20260421T083249
CREATED:20251209T045650Z
LAST-MODIFIED:20251209T045757Z
UID:10000184-1729324800-1729440000@www.austrackcampers.com.au
SUMMARY:Murrumbateman Field Days
DESCRIPTION:Come see us at site T132-134
URL:https://www.austrackcampers.com.au/event/murrumbateman-field-days/
LOCATION:Murrumbateman Recreation Grounds\, 19 East St\, Murrumbateman\, NSW\, 2582\, Australia
END:VEVENT
BEGIN:VEVENT
DTSTART;TZID=Australia/Brisbane:20241011T090000
DTEND;TZID=Australia/Brisbane:20241013T160000
DTSTAMP:20260421T083249
CREATED:20251209T045650Z
LAST-MODIFIED:20251209T045757Z
UID:10000182-1728637200-1728835200@www.austrackcampers.com.au
SUMMARY:Mandurah Boat Caravan 4WD & Camping Show
DESCRIPTION:Come see us at site 6
URL:https://www.austrackcampers.com.au/event/mandurah-boat-caravan-4wd-camping-show/
LOCATION:Rushton Park\, 21 Dower Street\, Mandurah\, WA\, 6210\, Australia
END:VEVENT
BEGIN:VEVENT
DTSTART;TZID=Australia/Brisbane:20241003T093000
DTEND;TZID=Australia/Brisbane:20241006T160000
DTSTAMP:20260421T083249
CREATED:20251209T045650Z
LAST-MODIFIED:20251209T045757Z
UID:10000181-1727947800-1728230400@www.austrackcampers.com.au
SUMMARY:Melbourne Caravan & Camping Leisurefest
DESCRIPTION:Come see us at site 308
URL:https://www.austrackcampers.com.au/event/melbourne-caravan-camping-leisurefest/
LOCATION:Sandown Racecourse\, Sandown Rd\, Clayton South\, VIC\, 3171\, Australia
END:VEVENT
BEGIN:VEVENT
DTSTART;TZID=Australia/Brisbane:20240927T083000
DTEND;TZID=Australia/Brisbane:20240929T160000
DTSTAMP:20260421T083249
CREATED:20251209T045650Z
LAST-MODIFIED:20251209T045757Z
UID:10000180-1727425800-1727625600@www.austrackcampers.com.au
SUMMARY:Sunshine Coast Expo
DESCRIPTION:Come see us at site OS238-239\,223-224
URL:https://www.austrackcampers.com.au/event/sunshine-coast-expo-2/
LOCATION:Kawana Sports Precinct\, 320 Nicklin Way\, Bokarina\, QLD\, 4575\, Australia
END:VEVENT
BEGIN:VEVENT
DTSTART;TZID=Australia/Brisbane:20240921T090000
DTEND;TZID=Australia/Brisbane:20240922T160000
DTSTAMP:20260421T083249
CREATED:20251209T045650Z
LAST-MODIFIED:20251209T045757Z
UID:10000177-1726909200-1727020800@www.austrackcampers.com.au
SUMMARY:Busselton Caravan & Camping Show
DESCRIPTION:Come see us at site 46a
URL:https://www.austrackcampers.com.au/event/busselton-caravan-camping-show/
LOCATION:Churchill Park\, 85 Adelaide St\, BUSSELTON\, WA\, 6280\, Australia
END:VEVENT
BEGIN:VEVENT
DTSTART;TZID=Australia/Brisbane:20240920T090000
DTEND;TZID=Australia/Brisbane:20240922T160000
DTSTAMP:20260421T083249
CREATED:20251209T045650Z
LAST-MODIFIED:20251209T045757Z
UID:10000178-1726822800-1727020800@www.austrackcampers.com.au
SUMMARY:Orana Caravan\, Camping\, 4WD\, Fish and Boat Show
DESCRIPTION:Come see us at site 146
URL:https://www.austrackcampers.com.au/event/orana-caravan-camping-4wd-fish-and-boat-show/
LOCATION:Dubbo Showground\, 191 Fitzroy Street\, Dubbo\, NSW\, 2830\, Australia
END:VEVENT
BEGIN:VEVENT
DTSTART;TZID=Australia/Brisbane:20240920T083000
DTEND;TZID=Australia/Brisbane:20240922T160000
DTSTAMP:20260421T083249
CREATED:20251209T045650Z
LAST-MODIFIED:20251209T045757Z
UID:10000179-1726821000-1727020800@www.austrackcampers.com.au
SUMMARY:Cleveland Caravan\, Camping & Boating & 4x4 Show
DESCRIPTION:Come see us at site OS442-444
URL:https://www.austrackcampers.com.au/event/cleveland-caravan-camping-boating-4x4-show/
LOCATION:Redlands Showgrounds\, 171 Long St\, Cleveland\, QLD\, 4163\, Australia
END:VEVENT
BEGIN:VEVENT
DTSTART;TZID=Australia/Brisbane:20240917T090000
DTEND;TZID=Australia/Brisbane:20240919T160000
DTSTAMP:20260421T083249
CREATED:20251209T045650Z
LAST-MODIFIED:20251209T045756Z
UID:10000176-1726563600-1726761600@www.austrackcampers.com.au
SUMMARY:Henty Machinery Field Days
DESCRIPTION:Come see us at site 988-990
URL:https://www.austrackcampers.com.au/event/henty-machinery-field-days/
LOCATION:22 Lubkes Road\, 22 Lubkes Road\, HENTY\, NSW\, 2658\, Australia
END:VEVENT
BEGIN:VEVENT
DTSTART;TZID=Australia/Brisbane:20240906T090000
DTEND;TZID=Australia/Brisbane:20240908T160000
DTSTAMP:20260421T083249
CREATED:20251209T045650Z
LAST-MODIFIED:20251209T045756Z
UID:10000175-1725613200-1725811200@www.austrackcampers.com.au
SUMMARY:Sydney 4WD & Adventure Show
DESCRIPTION:Come see us at sites F43-46
URL:https://www.austrackcampers.com.au/event/sydney-4wd-adventure-show-2/
LOCATION:Sydney Dragway\, Ferrers Road\, Eastern Creek\, NSW\, 2766\, Australia
END:VEVENT
BEGIN:VEVENT
DTSTART;TZID=Australia/Brisbane:20240906T080000
DTEND;TZID=Australia/Brisbane:20240908T170000
DTSTAMP:20260421T083249
CREATED:20251209T045649Z
LAST-MODIFIED:20251209T045756Z
UID:10000174-1725609600-1725814800@www.austrackcampers.com.au
SUMMARY:Tasmanian Outdoor Boat & Caravan Show
DESCRIPTION:Come see us at site 9
URL:https://www.austrackcampers.com.au/event/tasmanian-outdoor-boat-caravan-show/
LOCATION:Launceston Silverdome\, 55 Oakden Rd\, Prospect\, TAS\, 7250\, Australia
END:VEVENT
BEGIN:VEVENT
DTSTART;TZID=Australia/Brisbane:20240830T090000
DTEND;TZID=Australia/Brisbane:20240901T160000
DTSTAMP:20260421T083249
CREATED:20251209T045649Z
LAST-MODIFIED:20251209T045756Z
UID:10000173-1725008400-1725206400@www.austrackcampers.com.au
SUMMARY:Border Caravan & Camping Leisurefest
DESCRIPTION:Come and see us site 3
URL:https://www.austrackcampers.com.au/event/border-caravan-camping-leisurefest/
LOCATION:Wodonga Racecourse Recreation and Showground Reserve\, Hamilton Smith Dr\, Wodonga\, VIC\, 3690\, Australia
END:VEVENT
BEGIN:VEVENT
DTSTART;TZID=Australia/Brisbane:20240828T090000
DTEND;TZID=Australia/Brisbane:20240829T160000
DTSTAMP:20260421T083249
CREATED:20251209T045649Z
LAST-MODIFIED:20251209T045756Z
UID:10000172-1724835600-1724947200@www.austrackcampers.com.au
SUMMARY:Dowerin Machinery Field Days
DESCRIPTION:
URL:https://www.austrackcampers.com.au/event/dowerin-machinery-field-days/
LOCATION:Dowerin District High School\, 35 Memorial Ave\, Dowerin\, WA\, 6461\, Australia
END:VEVENT
BEGIN:VEVENT
DTSTART;TZID=Australia/Brisbane:20240823T090000
DTEND;TZID=Australia/Brisbane:20240825T160000
DTSTAMP:20260421T083249
CREATED:20251209T045649Z
LAST-MODIFIED:20251209T045756Z
UID:10000171-1724403600-1724601600@www.austrackcampers.com.au
SUMMARY:Melbourne National 4X4 Outdoors Expo
DESCRIPTION:Join us at site TS102 this August\, at the Melbourne Showgrounds for three massive days of outdoor adventure!
URL:https://www.austrackcampers.com.au/event/melbourne-national-4x4-outdoors-expo-2/
LOCATION:Melbourne Showgrounds\, Epsom Road\, Ascot Vale\, VIC\, 3032\, Australia
END:VEVENT
BEGIN:VEVENT
DTSTART;TZID=Australia/Brisbane:20240816T100000
DTEND;TZID=Australia/Brisbane:20240818T160000
DTSTAMP:20260421T083249
CREATED:20251209T045649Z
LAST-MODIFIED:20251209T045756Z
UID:10000170-1723802400-1723996800@www.austrackcampers.com.au
SUMMARY:Shepparton Outdoor Living & Caravan Expo
DESCRIPTION:Across 3 huge days\, discover an impressive showcase of the latest outdoor living innovations and state-of-the-art caravans. From rugged explorers to leisure-seeking families\, the Expo offers an all-encompassing experience tailored to every adventurer’s needs. Austrack Campers will be at site 44\, come and say hi!
URL:https://www.austrackcampers.com.au/event/shepparton-outdoor-living-caravan-expo/
LOCATION:Shepparton Showgrounds\, High Street\, Shepparton\, VIC\, 3630\, Australia
END:VEVENT
BEGIN:VEVENT
DTSTART;TZID=Australia/Brisbane:20240816T090000
DTEND;TZID=Australia/Brisbane:20240818T160000
DTSTAMP:20260421T083249
CREATED:20251209T045649Z
LAST-MODIFIED:20251209T045756Z
UID:10000169-1723798800-1723996800@www.austrackcampers.com.au
SUMMARY:Let's Go Sunshine Coast Caravan & Outdoor Expo (Nambour)
DESCRIPTION:The biggest caravanning event on the Sunshine Coast will return to Nambour Showgrounds from the 16 to 18 August!
URL:https://www.austrackcampers.com.au/event/lets-go-sunshine-coast-caravan-outdoor-expo-nambour-2/
LOCATION:Nambour Showgrounds\, Coronation Ave\, Nambour\, QLD\, 4560\, Australia
END:VEVENT
BEGIN:VEVENT
DTSTART;TZID=Australia/Brisbane:20240802T090000
DTEND;TZID=Australia/Brisbane:20240804T160000
DTSTAMP:20260421T083249
CREATED:20251209T045649Z
LAST-MODIFIED:20251209T045756Z
UID:10000168-1722589200-1722787200@www.austrackcampers.com.au
SUMMARY:Mid North Coast Caravan Camping 4WD Fish & Boat Show
DESCRIPTION:In 23 years the Mid North Coast Caravan\, Camping\, 4WD\, Fish & Boat Show has established itself as the major event held in the region. Come and see us at sites 173-175.
URL:https://www.austrackcampers.com.au/event/mid-north-coast-caravan-camping-4wd-fish-boat-show/
LOCATION:Wauchope Showground\, 93a High Street\, Wauchope\, NSW\, 2446\, Australia
END:VEVENT
BEGIN:VEVENT
DTSTART;TZID=Australia/Brisbane:20240726T083000
DTEND;TZID=Australia/Brisbane:20240728T160000
DTSTAMP:20260421T083249
CREATED:20251209T045649Z
LAST-MODIFIED:20251209T045756Z
UID:10000166-1721982600-1722182400@www.austrackcampers.com.au
SUMMARY:Queensland Outdoor Adventure & Motoring Expo (Toowoomba)
DESCRIPTION:The 2024 Queensland Outdoor Adventure Expo is the region’s largest and most successful event of its kind. Come see us at OS104.
URL:https://www.austrackcampers.com.au/event/queensland-outdoor-adventure-motoring-expo-toowoomba-2/
LOCATION:Toowoomba Showgrounds\, Glenvale Road\, Toowoomba\, QLD\, 4350\, Australia
END:VEVENT
BEGIN:VEVENT
DTSTART;TZID=Australia/Brisbane:20240725T100000
DTEND;TZID=Australia/Brisbane:20240728T170000
DTSTAMP:20260421T083249
CREATED:20251209T045649Z
LAST-MODIFIED:20251209T045756Z
UID:10000167-1721901600-1722186000@www.austrackcampers.com.au
SUMMARY:Let's Go Caravan\, Camping & Off Road Sale SA
DESCRIPTION:The July Let’s Go Caravan\, Camping & Off Road Sale is back again for another year!
URL:https://www.austrackcampers.com.au/event/lets-go-caravan-camping-off-road-sale-sa/
LOCATION:Adelaide Showground\, Goodwood Road\, Wayville\, SA\, 5034\, Australia
END:VEVENT
BEGIN:VEVENT
DTSTART;TZID=Australia/Brisbane:20240719T083000
DTEND;TZID=Australia/Brisbane:20240721T160000
DTSTAMP:20260421T083249
CREATED:20251209T045649Z
LAST-MODIFIED:20251209T045756Z
UID:10000165-1721377800-1721577600@www.austrackcampers.com.au
SUMMARY:Fraser Coast Expo (Maryborough)
DESCRIPTION:Looking to prepare for your next thrilling adventure? Look no further than the 2024 Fraser Coast Expo! From July 21st to 23rd\, join us at the Maryborough Showgrounds for the region’s premier showcase of outdoor adventure\, home\, and lifestyle products.  Come see us at site OS200.
URL:https://www.austrackcampers.com.au/event/fraser-coast-expo-maryborough-2/
LOCATION:Maryborough Showgrounds & Equestrian Park\, 23349 Bruce Highway\, Maryborough West\, QLD\, 4650\, Australia
END:VEVENT
BEGIN:VEVENT
DTSTART;TZID=Australia/Brisbane:20240712T083000
DTEND;TZID=Australia/Brisbane:20240714T160000
DTSTAMP:20260421T083249
CREATED:20251209T045649Z
LAST-MODIFIED:20251209T045756Z
UID:10000164-1720773000-1720972800@www.austrackcampers.com.au
SUMMARY:Rockhampton Expo
DESCRIPTION:In this vibrant town better known as the Beef Capital\, the Rockhampton Showground turns up the heat\, coming to life with the premier home\, lifestyle\, and outdoor event this coming July – the 2024 Rockhampton Expo!  Come and see us at sites 122-125.
URL:https://www.austrackcampers.com.au/event/rockhampton-expo-2/
LOCATION:Rockhampton Showgrounds\, Cnr Exhibition & New Exhibition Roads\, Rockhampton\, QLD\, 4700\, Australia
END:VEVENT
BEGIN:VEVENT
DTSTART;TZID=Australia/Brisbane:20240629T090000
DTEND;TZID=Australia/Brisbane:20240630T160000
DTSTAMP:20260421T083249
CREATED:20251209T045649Z
LAST-MODIFIED:20251209T045756Z
UID:10000162-1719651600-1719763200@www.austrackcampers.com.au
SUMMARY:New England Outdoor Adventure Show (Tamworth)
DESCRIPTION:We’ll be at the inaugural New England 4WD & Outdoor Adventure Show – come see us at sites 132-142.
URL:https://www.austrackcampers.com.au/event/new-england-outdoor-adventure-show-tamworth/
LOCATION:Australian Equine & Livestock Events Centre (AELEC)\, 503 Goonoo Goonoo Rd\, TAMWORTH\, NSW\, 2340\, Australia
END:VEVENT
BEGIN:VEVENT
DTSTART;TZID=Australia/Brisbane:20240628T100000
DTEND;TZID=Australia/Brisbane:20240630T160000
DTSTAMP:20260421T083249
CREATED:20251209T045649Z
LAST-MODIFIED:20251209T045756Z
UID:10000161-1719568800-1719763200@www.austrackcampers.com.au
SUMMARY:Mildura GO 4x4 Expo
DESCRIPTION:Discover the ultimate destination for outdoor enthusiasts and caravan aficionados at the highly anticipated Mildura Outdoor Living and Caravan Expo. Held across 3 huge days\, this expo will showcase all of the leading outdoor brands and products.  See you at site 4.
URL:https://www.austrackcampers.com.au/event/mildura-go-4x4-expo/
LOCATION:Event Central at Caribbean Park\, 1280 Ferntree Gully Road\, Scoresby\, VIC\, 3179\, Australia
END:VEVENT
BEGIN:VEVENT
DTSTART;TZID=Australia/Brisbane:20240614T090000
DTEND;TZID=Australia/Brisbane:20240616T160000
DTSTAMP:20260421T083249
CREATED:20251209T045649Z
LAST-MODIFIED:20251209T045756Z
UID:10000160-1718355600-1718553600@www.austrackcampers.com.au
SUMMARY:National 4x4 Outdoors Show Sydney
DESCRIPTION:See you at sites H99 + H101
URL:https://www.austrackcampers.com.au/event/national-4x4-outdoors-show-sydney/
LOCATION:Sydney Showgrounds\, Grand Parade\, Sydney Olympic Park\, NSW\, 2127\, Australia
END:VEVENT
BEGIN:VEVENT
DTSTART;TZID=Australia/Brisbane:20240607T090000
DTEND;TZID=Australia/Brisbane:20240609T150000
DTSTAMP:20260421T083249
CREATED:20251209T045648Z
LAST-MODIFIED:20251209T045755Z
UID:10000159-1717750800-1717945200@www.austrackcampers.com.au
SUMMARY:Perth Caravan & Camper Expo
DESCRIPTION:The Perth Caravan & Camper Expo is an exciting new tradeshow event for West Australian touring adventure fanatics\, staged indoors at the Perth Convention and Exhibition Centre over 7 – 9 June.
URL:https://www.austrackcampers.com.au/event/perth-caravan-camper-expo/
LOCATION:Perth Convention and Exhibition Centre\, 21 Mounts Bay Rd\, Perth\, WA\, 6000\, Australia
END:VEVENT
BEGIN:VEVENT
DTSTART;TZID=Australia/Brisbane:20240605T090000
DTEND;TZID=Australia/Brisbane:20240609T160000
DTSTAMP:20260421T083249
CREATED:20251209T045648Z
LAST-MODIFIED:20251209T045755Z
UID:10000158-1717578000-1717948800@www.austrackcampers.com.au
SUMMARY:Let’s Go Queensland Caravan & Camping Supershow
DESCRIPTION:The biggest caravanning event in Queensland returns to Brisbane Showgrounds from the 5 – 9 June!  Come see us at site 2676.
URL:https://www.austrackcampers.com.au/event/lets-go-queensland-caravan-camping-supershow/
LOCATION:Brisbane Showgrounds\, 600 Gregory Terrace\, Bowen Hills\, QLD\, 4006\, Australia
END:VEVENT
END:VCALENDAR