BEGIN:VCALENDAR
VERSION:2.0
PRODID:-//Offroad Hybrid Campers and Caravans - ECPv6.15.20//NONSGML v1.0//EN
CALSCALE:GREGORIAN
METHOD:PUBLISH
X-WR-CALNAME:Offroad Hybrid Campers and Caravans
X-ORIGINAL-URL:https://www.austrackcampers.com.au
X-WR-CALDESC:Events for Offroad Hybrid Campers and Caravans
REFRESH-INTERVAL;VALUE=DURATION:PT1H
X-Robots-Tag:noindex
X-PUBLISHED-TTL:PT1H
BEGIN:VTIMEZONE
TZID:Australia/Brisbane
BEGIN:STANDARD
TZOFFSETFROM:+1000
TZOFFSETTO:+1000
TZNAME:AEST
DTSTART:20240101T000000
END:STANDARD
END:VTIMEZONE
BEGIN:VTIMEZONE
TZID:Australia/Melbourne
BEGIN:STANDARD
TZOFFSETFROM:+1100
TZOFFSETTO:+1000
TZNAME:AEST
DTSTART:20240406T160000
END:STANDARD
BEGIN:DAYLIGHT
TZOFFSETFROM:+1000
TZOFFSETTO:+1100
TZNAME:AEDT
DTSTART:20241005T160000
END:DAYLIGHT
BEGIN:STANDARD
TZOFFSETFROM:+1100
TZOFFSETTO:+1000
TZNAME:AEST
DTSTART:20250405T160000
END:STANDARD
BEGIN:DAYLIGHT
TZOFFSETFROM:+1000
TZOFFSETTO:+1100
TZNAME:AEDT
DTSTART:20251004T160000
END:DAYLIGHT
BEGIN:STANDARD
TZOFFSETFROM:+1100
TZOFFSETTO:+1000
TZNAME:AEST
DTSTART:20260404T160000
END:STANDARD
BEGIN:DAYLIGHT
TZOFFSETFROM:+1000
TZOFFSETTO:+1100
TZNAME:AEDT
DTSTART:20261003T160000
END:DAYLIGHT
END:VTIMEZONE
BEGIN:VTIMEZONE
TZID:Australia/Adelaide
BEGIN:STANDARD
TZOFFSETFROM:+1030
TZOFFSETTO:+0930
TZNAME:ACST
DTSTART:20240406T163000
END:STANDARD
BEGIN:DAYLIGHT
TZOFFSETFROM:+0930
TZOFFSETTO:+1030
TZNAME:ACDT
DTSTART:20241005T163000
END:DAYLIGHT
BEGIN:STANDARD
TZOFFSETFROM:+1030
TZOFFSETTO:+0930
TZNAME:ACST
DTSTART:20250405T163000
END:STANDARD
BEGIN:DAYLIGHT
TZOFFSETFROM:+0930
TZOFFSETTO:+1030
TZNAME:ACDT
DTSTART:20251004T163000
END:DAYLIGHT
BEGIN:STANDARD
TZOFFSETFROM:+1030
TZOFFSETTO:+0930
TZNAME:ACST
DTSTART:20260404T163000
END:STANDARD
BEGIN:DAYLIGHT
TZOFFSETFROM:+0930
TZOFFSETTO:+1030
TZNAME:ACDT
DTSTART:20261003T163000
END:DAYLIGHT
END:VTIMEZONE
BEGIN:VTIMEZONE
TZID:Australia/Sydney
BEGIN:STANDARD
TZOFFSETFROM:+1100
TZOFFSETTO:+1000
TZNAME:AEST
DTSTART:20240406T160000
END:STANDARD
BEGIN:DAYLIGHT
TZOFFSETFROM:+1000
TZOFFSETTO:+1100
TZNAME:AEDT
DTSTART:20241005T160000
END:DAYLIGHT
BEGIN:STANDARD
TZOFFSETFROM:+1100
TZOFFSETTO:+1000
TZNAME:AEST
DTSTART:20250405T160000
END:STANDARD
BEGIN:DAYLIGHT
TZOFFSETFROM:+1000
TZOFFSETTO:+1100
TZNAME:AEDT
DTSTART:20251004T160000
END:DAYLIGHT
BEGIN:STANDARD
TZOFFSETFROM:+1100
TZOFFSETTO:+1000
TZNAME:AEST
DTSTART:20260404T160000
END:STANDARD
BEGIN:DAYLIGHT
TZOFFSETFROM:+1000
TZOFFSETTO:+1100
TZNAME:AEDT
DTSTART:20261003T160000
END:DAYLIGHT
END:VTIMEZONE
BEGIN:VTIMEZONE
TZID:Australia/Perth
BEGIN:STANDARD
TZOFFSETFROM:+0800
TZOFFSETTO:+0800
TZNAME:AWST
DTSTART:20240101T000000
END:STANDARD
END:VTIMEZONE
BEGIN:VEVENT
DTSTART;TZID=Australia/Brisbane:20250214T083000
DTEND;TZID=Australia/Brisbane:20250216T160000
DTSTAMP:20260421T021019
CREATED:20251209T045651Z
LAST-MODIFIED:20251209T045757Z
UID:10000193-1739521800-1739721600@www.austrackcampers.com.au
SUMMARY:Moreton Bay Expo (Redcliffe)
DESCRIPTION:Come see us at site OS223
URL:https://www.austrackcampers.com.au/event/moreton-bay-expo-redcliffe-2/
LOCATION:Redcliffe Showgrounds\, Scarborough Road\, Redcliffe\, 4020\, Australia
END:VEVENT
BEGIN:VEVENT
DTSTART;TZID=Australia/Melbourne:20250219T093000
DTEND;TZID=Australia/Melbourne:20250223T160000
DTSTAMP:20260421T021019
CREATED:20251209T045651Z
LAST-MODIFIED:20251209T045758Z
UID:10000194-1739957400-1740326400@www.austrackcampers.com.au
SUMMARY:Victorian Caravan & Camping Supershow
DESCRIPTION:Come see us at site 214
URL:https://www.austrackcampers.com.au/event/victorian-caravan-camping-supershow-2/
LOCATION:Melbourne Showgrounds\, Epsom Road\, Ascot Vale\, VIC\, 3032\, Australia
END:VEVENT
BEGIN:VEVENT
DTSTART;TZID=Australia/Adelaide:20250226T080000
DTEND;TZID=Australia/Adelaide:20250302T170000
DTSTAMP:20260421T021019
CREATED:20251209T045651Z
LAST-MODIFIED:20251209T045758Z
UID:10000195-1740556800-1740934800@www.austrackcampers.com.au
SUMMARY:Let’s Go SA – Caravan\, Camping & Outdoor Show
DESCRIPTION:Come see us at site H11
URL:https://www.austrackcampers.com.au/event/lets-go-sa-caravan-camping-outdoor-show-2/
LOCATION:NSW
END:VEVENT
BEGIN:VEVENT
DTSTART;TZID=Australia/Sydney:20250228T090000
DTEND;TZID=Australia/Sydney:20250302T160000
DTSTAMP:20260421T021019
CREATED:20251209T045651Z
LAST-MODIFIED:20251209T045758Z
UID:10000201-1740733200-1740931200@www.austrackcampers.com.au
SUMMARY:Central West Caravan\, Camping and Outdoor show (Orange)
DESCRIPTION:Come see us at sites 72-74
URL:https://www.austrackcampers.com.au/event/central-west-caravan-camping-and-outdoor-show-orange-2/
LOCATION:Australian National Field Days\, 563 Borenore Road\, BORENORE\, NSW\, 2800\, Australia
END:VEVENT
BEGIN:VEVENT
DTSTART;TZID=Australia/Brisbane:20250314T090000
DTEND;TZID=Australia/Brisbane:20250316T160000
DTSTAMP:20260421T021019
CREATED:20251209T045651Z
LAST-MODIFIED:20251209T045758Z
UID:10000198-1741942800-1742140800@www.austrackcampers.com.au
SUMMARY:Brisbane 4X4 Show RNA
DESCRIPTION:Come see us at A130
URL:https://www.austrackcampers.com.au/event/brisbane-4x4-show-rna/
LOCATION:Brisbane Showgrounds\, 600 Gregory Terrace\, Bowen Hills\, QLD\, 4006\, Australia
END:VEVENT
BEGIN:VEVENT
DTSTART;TZID=Australia/Melbourne:20250314T100000
DTEND;TZID=Australia/Melbourne:20250316T160000
DTSTAMP:20260421T021019
CREATED:20251209T045651Z
LAST-MODIFIED:20251209T045758Z
UID:10000197-1741946400-1742140800@www.austrackcampers.com.au
SUMMARY:Mornington Outdoor Living & Caravan Expo
DESCRIPTION:Come see us at sites 9-10
URL:https://www.austrackcampers.com.au/event/mornington-outdoor-living-caravan-expo-2/
LOCATION:Mornington Racecourse\, 320 Racecourse Rd\, Mornington\, 3931\, Australia
END:VEVENT
BEGIN:VEVENT
DTSTART;TZID=Australia/Perth:20250320T090000
DTEND;TZID=Australia/Perth:20250323T160000
DTSTAMP:20260421T021019
CREATED:20251209T045651Z
LAST-MODIFIED:20251209T045758Z
UID:10000199-1742461200-1742745600@www.austrackcampers.com.au
SUMMARY:Perth Caravan & Camping Show
DESCRIPTION:Come and see us at site 314-315
URL:https://www.austrackcampers.com.au/event/perth-caravan-and-camping-show-2/
LOCATION:Claremont Showground\, 1 Graylands Rd\, Claremont\, WA\, 6010\, Australia
END:VEVENT
BEGIN:VEVENT
DTSTART;TZID=Australia/Brisbane:20250328T090000
DTEND;TZID=Australia/Brisbane:20250330T160000
DTSTAMP:20260421T021019
CREATED:20251209T045651Z
LAST-MODIFIED:20251209T045758Z
UID:10000202-1743152400-1743350400@www.austrackcampers.com.au
SUMMARY:Albury Wodonga Caravan\, Camping\, 4WD\, Fish & Boating Show
DESCRIPTION:Come see us at sites 107-110
URL:https://www.austrackcampers.com.au/event/albury-wodonga-caravan-camping-4wd-fish-boating-show/
LOCATION:Albury Showground\, Fallon Street\, North Albury\, NSW\, 2640\, Australia
END:VEVENT
BEGIN:VEVENT
DTSTART;TZID=Australia/Brisbane:20250404T090000
DTEND;TZID=Australia/Brisbane:20250406T160000
DTSTAMP:20260421T021019
CREATED:20251209T045651Z
LAST-MODIFIED:20251209T045758Z
UID:10000204-1743757200-1743955200@www.austrackcampers.com.au
SUMMARY:The Border Caravan Camping Leisurefest
DESCRIPTION:Come see us site 130
URL:https://www.austrackcampers.com.au/event/the-border-caravan-camping-leisurefest/
LOCATION:Wodonga Racecourse Recreation and Showground Reserve\, Hamilton Smith Dr\, Wodonga\, VIC\, 3690\, Australia
END:VEVENT
BEGIN:VEVENT
DTSTART;TZID=Australia/Brisbane:20250411T090000
DTEND;TZID=Australia/Brisbane:20250413T160000
DTSTAMP:20260421T021019
CREATED:20251209T045651Z
LAST-MODIFIED:20251209T045758Z
UID:10000205-1744362000-1744560000@www.austrackcampers.com.au
SUMMARY:Outdoor Living Caravan Expo - Ballarat
DESCRIPTION:Come see us at site 17\, 18\, 19
URL:https://www.austrackcampers.com.au/event/outdoor-living-caravan-expo-ballarat/
LOCATION:Ballarat Showgrounds\, 6 Rosehill Road\, INVERMAY\, VIC\, 3352\, Australia
END:VEVENT
BEGIN:VEVENT
DTSTART;TZID=Australia/Sydney:20250429T093000
DTEND;TZID=Australia/Sydney:20250504T170000
DTSTAMP:20260421T021019
CREATED:20251209T045651Z
LAST-MODIFIED:20251209T045758Z
UID:10000206-1745919000-1746378000@www.austrackcampers.com.au
SUMMARY:Caravan Camping Holiday Supershow Sydney
DESCRIPTION:See us at site 604
URL:https://www.austrackcampers.com.au/event/caravan-camping-holiday-supershow-sydney-2/
LOCATION:Rosehill Gardens Racecourse\, Sydney\, James Ruse Dr\,\, Rosehill\, Sydney\, 2142\, Australia
END:VEVENT
BEGIN:VEVENT
DTSTART;TZID=Australia/Sydney:20250501T090000
DTEND;TZID=Australia/Sydney:20250503T160000
DTSTAMP:20260421T021019
CREATED:20251209T045651Z
LAST-MODIFIED:20251209T045758Z
UID:10000211-1746090000-1746288000@www.austrackcampers.com.au
SUMMARY:Hunter Valley Outdoor Show
DESCRIPTION:Come see us!
URL:https://www.austrackcampers.com.au/event/hunter-valley-outdoor-show/
LOCATION:Maitland Showground\, Blomfield Street\, SOUTH MAITLAND\, NSW\, Australia
END:VEVENT
BEGIN:VEVENT
DTSTART;TZID=Australia/Brisbane:20250509T083000
DTEND;TZID=Australia/Brisbane:20250511T160000
DTSTAMP:20260421T021019
CREATED:20251209T045652Z
LAST-MODIFIED:20251209T045758Z
UID:10000207-1746779400-1746979200@www.austrackcampers.com.au
SUMMARY:Cairns Outdoor Adventure Home & Lifestyle Expo
DESCRIPTION:Come see us at site OS185-186
URL:https://www.austrackcampers.com.au/event/cairns-outdoor-adventure-home-lifestyle-expo/
LOCATION:Cairns Showgrounds\, Scott Street\, Cairns\, QLD\, 4870\, Australia
END:VEVENT
BEGIN:VEVENT
DTSTART;TZID=Australia/Perth:20250509T083000
DTEND;TZID=Australia/Perth:20250511T160000
DTSTAMP:20260421T021019
CREATED:20251209T045652Z
LAST-MODIFIED:20251209T045758Z
UID:10000208-1746779400-1746979200@www.austrackcampers.com.au
SUMMARY:Ready 4 Adventure Show WA
DESCRIPTION:Come see us at site 500
URL:https://www.austrackcampers.com.au/event/ready-4-adventure-show-wa/
LOCATION:Wanneroo Showgrounds\, Ariti Avenue\, WANNEROO\, WA\, 6065\, Australia
END:VEVENT
BEGIN:VEVENT
DTSTART;TZID=Australia/Brisbane:20250516T083000
DTEND;TZID=Australia/Brisbane:20250518T160000
DTSTAMP:20260421T021019
CREATED:20251209T045652Z
LAST-MODIFIED:20251209T045758Z
UID:10000209-1747384200-1747584000@www.austrackcampers.com.au
SUMMARY:Townsville Caravan\, 4x4 & Outdoor Adventure Expo
DESCRIPTION:Come see us at site OS164-167
URL:https://www.austrackcampers.com.au/event/townsville-caravan-4x4-outdoor-adventure-expo/
LOCATION:Reid Park\, 95/55 Boundary Street\, Railway Estate\, QLD\, 4810\, Australia
END:VEVENT
BEGIN:VEVENT
DTSTART;TZID=Australia/Brisbane:20250523T083000
DTEND;TZID=Australia/Brisbane:20250525T160000
DTSTAMP:20260421T021019
CREATED:20251209T045652Z
LAST-MODIFIED:20251209T045758Z
UID:10000210-1747989000-1748188800@www.austrackcampers.com.au
SUMMARY:Mackay Outdoor Adventure Expo
DESCRIPTION:Come see us at site OS110
URL:https://www.austrackcampers.com.au/event/mackay-outdoor-adventure-expo/
LOCATION:Mackay Showgrounds\, Milton Street\, Mackay\, 4740\, Australia
END:VEVENT
BEGIN:VEVENT
DTSTART;TZID=Australia/Brisbane:20250531T090000
DTEND;TZID=Australia/Brisbane:20250601T160000
DTSTAMP:20260421T021019
CREATED:20251209T045652Z
LAST-MODIFIED:20251209T045759Z
UID:10000219-1748682000-1748793600@www.austrackcampers.com.au
SUMMARY:Bendigo Caravan & Outdoor Leisure Roadshow
DESCRIPTION:Come see our range at the Australian Caravan & Campers site!
URL:https://www.austrackcampers.com.au/event/bendigo-caravan-outdoor-leisure-roadshow/
LOCATION:Bendigo Showground\, Holmes Road\, Bendigo\, VIC\, Australia
END:VEVENT
BEGIN:VEVENT
DTSTART;TZID=Australia/Brisbane:20250604T090000
DTEND;TZID=Australia/Brisbane:20250608T160000
DTSTAMP:20260421T021019
CREATED:20251209T045652Z
LAST-MODIFIED:20251209T045759Z
UID:10000212-1749027600-1749398400@www.austrackcampers.com.au
SUMMARY:Let’s Go Queensland Caravan & Camping Supershow 2025
DESCRIPTION:Come see us at site 2676
URL:https://www.austrackcampers.com.au/event/lets-go-queensland-caravan-camping-supershow-2025/
LOCATION:Brisbane Showgrounds\, 600 Gregory Terrace\, Bowen Hills\, QLD\, 4006\, Australia
END:VEVENT
BEGIN:VEVENT
DTSTART;TZID=Australia/Brisbane:20250606T090000
DTEND;TZID=Australia/Brisbane:20250608T150000
DTSTAMP:20260421T021019
CREATED:20251209T045652Z
LAST-MODIFIED:20251209T045759Z
UID:10000213-1749200400-1749394800@www.austrackcampers.com.au
SUMMARY:Perth Caravan & Camper Expo 2025
DESCRIPTION:Come see at site 4
URL:https://www.austrackcampers.com.au/event/perth-caravan-camper-expo-2025/
LOCATION:Perth Convention and Exhibition Centre\, 21 Mounts Bay Rd\, Perth\, WA\, 6000\, Australia
END:VEVENT
BEGIN:VEVENT
DTSTART;TZID=Australia/Brisbane:20250613T080000
DTEND;TZID=Australia/Brisbane:20250615T160000
DTSTAMP:20260421T021019
CREATED:20251209T045652Z
LAST-MODIFIED:20251209T045759Z
UID:10000214-1749801600-1750003200@www.austrackcampers.com.au
SUMMARY:Sydney National 4x4 Outdoors Expo 2025
DESCRIPTION:Come see us at site H101- H105
URL:https://www.austrackcampers.com.au/event/sydney-national-4x4-outdoors-expo-2025/
LOCATION:Sydney Showgrounds\, Grand Parade\, Sydney Olympic Park\, NSW\, 2127\, Australia
END:VEVENT
BEGIN:VEVENT
DTSTART;TZID=Australia/Brisbane:20250613T100000
DTEND;TZID=Australia/Brisbane:20250615T160000
DTSTAMP:20260421T021019
CREATED:20251209T045652Z
LAST-MODIFIED:20251209T045759Z
UID:10000215-1749808800-1750003200@www.austrackcampers.com.au
SUMMARY:Coffs Harbour Outdoor Living Caravan Expo 2025
DESCRIPTION:Come see us at site VG-49-50
URL:https://www.austrackcampers.com.au/event/coffs-harbour-outdoor-living-caravan-expo-2025/
LOCATION:Coffs Harbour Showground\, 123 Pacific Highway\, Coffs Harbour\, 2450\, Australia
END:VEVENT
BEGIN:VEVENT
DTSTART;TZID=Australia/Brisbane:20250620T083000
DTEND;TZID=Australia/Brisbane:20250622T160000
DTSTAMP:20260421T021019
CREATED:20251209T045652Z
LAST-MODIFIED:20251209T045759Z
UID:10000203-1750408200-1750608000@www.austrackcampers.com.au
SUMMARY:Suncoast Outdoor Adventure Expo
DESCRIPTION:Come see us at site OS308
URL:https://www.austrackcampers.com.au/event/suncoast-outdoor-adventure-expo/
LOCATION:Caboolture Showgrounds\, Beerburrum Rd\, Caboolture\, 4510\, AU
END:VEVENT
BEGIN:VEVENT
DTSTART;TZID=Australia/Brisbane:20250627T100000
DTEND;TZID=Australia/Brisbane:20250629T160000
DTSTAMP:20260421T021019
CREATED:20251209T045652Z
LAST-MODIFIED:20251209T045759Z
UID:10000216-1751018400-1751212800@www.austrackcampers.com.au
SUMMARY:New England Outdoor Adventure show (Tamworth)
DESCRIPTION:Come see us at site 2
URL:https://www.austrackcampers.com.au/event/new-england-outdoor-adventure-show-tamworth-2/
LOCATION:Australian Equine & Livestock Events Centre (AELEC)\, 503 Goonoo Goonoo Rd\, TAMWORTH\, NSW\, 2340\, Australia
END:VEVENT
BEGIN:VEVENT
DTSTART;TZID=Australia/Brisbane:20250627T100000
DTEND;TZID=Australia/Brisbane:20250629T160000
DTSTAMP:20260421T021019
CREATED:20251209T045652Z
LAST-MODIFIED:20251209T045759Z
UID:10000217-1751018400-1751212800@www.austrackcampers.com.au
SUMMARY:Mildura Outdoor Living and Caravan Expo 2025
DESCRIPTION:Come see us at site 4
URL:https://www.austrackcampers.com.au/event/mildura-outdoor-living-and-caravan-expo-2025/
LOCATION:Event Central at Caribbean Park\, 1280 Ferntree Gully Road\, Scoresby\, VIC\, 3179\, Australia
END:VEVENT
BEGIN:VEVENT
DTSTART;TZID=Australia/Brisbane:20250711T083000
DTEND;TZID=Australia/Brisbane:20250713T163000
DTSTAMP:20260421T021019
CREATED:20251209T045652Z
LAST-MODIFIED:20251209T045759Z
UID:10000220-1752222600-1752424200@www.austrackcampers.com.au
SUMMARY:Rockhampton Outdoor Adventure Plus Home & Lifestyle Expo
DESCRIPTION:Come see us at site OS415!
URL:https://www.austrackcampers.com.au/event/rockhampton-caravan-lifestyle-expo/
LOCATION:Rockhampton Showgrounds\, Cnr Exhibition & New Exhibition Roads\, Rockhampton\, QLD\, 4700\, Australia
ATTACH;FMTTYPE=image/png:https://www.austrackcampers.com.au/wp-content/uploads/2025/06/TEMPLATE_show-tile_square-20.png
END:VEVENT
BEGIN:VEVENT
DTSTART;TZID=Australia/Brisbane:20250711T090000
DTEND;TZID=Australia/Brisbane:20250713T170000
DTSTAMP:20260421T021019
CREATED:20251209T045653Z
LAST-MODIFIED:20251209T045759Z
UID:10000218-1752224400-1752426000@www.austrackcampers.com.au
SUMMARY:Illawarra Caravan Lifestyle Expo
DESCRIPTION:Come see us at site 73!
URL:https://www.austrackcampers.com.au/event/illawarra-caravan-lifestyle-expo/
LOCATION:Kembla Grange Racecourse\, 32 Princes Hwy\, Kembla Grange\, NSW\, 2530\, Australia
GEO:-34.4699444;150.819968
X-APPLE-STRUCTURED-LOCATION;VALUE=URI;X-ADDRESS=Kembla Grange Racecourse 32 Princes Hwy Kembla Grange NSW 2530 Australia;X-APPLE-RADIUS=500;X-TITLE=32 Princes Hwy:geo:150.819968,-34.4699444
END:VEVENT
BEGIN:VEVENT
DTSTART;TZID=Australia/Brisbane:20250718T083000
DTEND;TZID=Australia/Brisbane:20250720T160000
DTSTAMP:20260421T021019
CREATED:20251209T045653Z
LAST-MODIFIED:20251209T045759Z
UID:10000221-1752827400-1753027200@www.austrackcampers.com.au
SUMMARY:Fraser Coast Outdoor Adventure Plus Home & Lifestyle Expo
DESCRIPTION:Come see us at site OS469!
URL:https://www.austrackcampers.com.au/event/fraser-coast-expo/
LOCATION:Maryborough Showgrounds & Equestrian Park\, 23349 Bruce Highway\, Maryborough West\, QLD\, 4650\, Australia
ATTACH;FMTTYPE=image/png:https://www.austrackcampers.com.au/wp-content/uploads/2025/06/TEMPLATE_show-tile_square-22.png
END:VEVENT
BEGIN:VEVENT
DTSTART;TZID=Australia/Adelaide:20250724T100000
DTEND;TZID=Australia/Adelaide:20250727T170000
DTSTAMP:20260421T021019
CREATED:20251209T045653Z
LAST-MODIFIED:20251209T045759Z
UID:10000222-1753351200-1753635600@www.austrackcampers.com.au
SUMMARY:South Australia Caravan\, Camping & Outdoor Sale
DESCRIPTION:Come see us at site H01!
URL:https://www.austrackcampers.com.au/event/south-australia-caravan-camping-outdoor-sale/
LOCATION:Adelaide Showground\, Goodwood Road\, Wayville\, SA\, 5034\, Australia
ATTACH;FMTTYPE=image/png:https://www.austrackcampers.com.au/wp-content/uploads/2025/06/TEMPLATE_show-tile_square-24.png
END:VEVENT
BEGIN:VEVENT
DTSTART;TZID=Australia/Brisbane:20250725T083000
DTEND;TZID=Australia/Brisbane:20250727T160000
DTSTAMP:20260421T021019
CREATED:20251209T045653Z
LAST-MODIFIED:20251209T045759Z
UID:10000223-1753432200-1753632000@www.austrackcampers.com.au
SUMMARY:Queensland Outdoor Adventure Expo
DESCRIPTION:Come see us at site OS104!
URL:https://www.austrackcampers.com.au/event/queensland-outdoor-adventure-expo/
LOCATION:Toowoomba Showgrounds\, Glenvale Road\, Toowoomba\, QLD\, 4350\, Australia
ATTACH;FMTTYPE=image/png:https://www.austrackcampers.com.au/wp-content/uploads/2025/06/TEMPLATE_show-tile_square-23.png
END:VEVENT
BEGIN:VEVENT
DTSTART;TZID=Australia/Sydney:20250801T090000
DTEND;TZID=Australia/Sydney:20250803T160000
DTSTAMP:20260421T021019
CREATED:20251209T045653Z
LAST-MODIFIED:20251209T045759Z
UID:10000224-1754038800-1754236800@www.austrackcampers.com.au
SUMMARY:Mid North Coast Outdoor Show
DESCRIPTION:
URL:https://www.austrackcampers.com.au/event/mid-north-coast-outdoor-show/
LOCATION:Wauchope Showground\, 93a High Street\, Wauchope\, NSW\, 2446\, Australia
ATTACH;FMTTYPE=image/png:https://www.austrackcampers.com.au/wp-content/uploads/2025/06/TEMPLATE_show-tile_square-25.png
END:VEVENT
END:VCALENDAR