BEGIN:VCALENDAR
VERSION:2.0
PRODID:-//Offroad Hybrid Campers and Caravans - ECPv6.15.20//NONSGML v1.0//EN
CALSCALE:GREGORIAN
METHOD:PUBLISH
X-ORIGINAL-URL:https://www.austrackcampers.com.au
X-WR-CALDESC:Events for Offroad Hybrid Campers and Caravans
REFRESH-INTERVAL;VALUE=DURATION:PT1H
X-Robots-Tag:noindex
X-PUBLISHED-TTL:PT1H
BEGIN:VTIMEZONE
TZID:Australia/Brisbane
BEGIN:STANDARD
TZOFFSETFROM:+1000
TZOFFSETTO:+1000
TZNAME:AEST
DTSTART:20230101T000000
END:STANDARD
END:VTIMEZONE
BEGIN:VTIMEZONE
TZID:Australia/Sydney
BEGIN:STANDARD
TZOFFSETFROM:+1100
TZOFFSETTO:+1000
TZNAME:AEST
DTSTART:20220402T160000
END:STANDARD
BEGIN:DAYLIGHT
TZOFFSETFROM:+1000
TZOFFSETTO:+1100
TZNAME:AEDT
DTSTART:20221001T160000
END:DAYLIGHT
BEGIN:STANDARD
TZOFFSETFROM:+1100
TZOFFSETTO:+1000
TZNAME:AEST
DTSTART:20230401T160000
END:STANDARD
BEGIN:DAYLIGHT
TZOFFSETFROM:+1000
TZOFFSETTO:+1100
TZNAME:AEDT
DTSTART:20230930T160000
END:DAYLIGHT
BEGIN:STANDARD
TZOFFSETFROM:+1100
TZOFFSETTO:+1000
TZNAME:AEST
DTSTART:20240406T160000
END:STANDARD
BEGIN:DAYLIGHT
TZOFFSETFROM:+1000
TZOFFSETTO:+1100
TZNAME:AEDT
DTSTART:20241005T160000
END:DAYLIGHT
BEGIN:STANDARD
TZOFFSETFROM:+1100
TZOFFSETTO:+1000
TZNAME:AEST
DTSTART:20250405T160000
END:STANDARD
BEGIN:DAYLIGHT
TZOFFSETFROM:+1000
TZOFFSETTO:+1100
TZNAME:AEDT
DTSTART:20251004T160000
END:DAYLIGHT
END:VTIMEZONE
BEGIN:VTIMEZONE
TZID:Australia/Melbourne
BEGIN:STANDARD
TZOFFSETFROM:+1100
TZOFFSETTO:+1000
TZNAME:AEST
DTSTART:20220402T160000
END:STANDARD
BEGIN:DAYLIGHT
TZOFFSETFROM:+1000
TZOFFSETTO:+1100
TZNAME:AEDT
DTSTART:20221001T160000
END:DAYLIGHT
BEGIN:STANDARD
TZOFFSETFROM:+1100
TZOFFSETTO:+1000
TZNAME:AEST
DTSTART:20230401T160000
END:STANDARD
BEGIN:DAYLIGHT
TZOFFSETFROM:+1000
TZOFFSETTO:+1100
TZNAME:AEDT
DTSTART:20230930T160000
END:DAYLIGHT
BEGIN:STANDARD
TZOFFSETFROM:+1100
TZOFFSETTO:+1000
TZNAME:AEST
DTSTART:20240406T160000
END:STANDARD
BEGIN:DAYLIGHT
TZOFFSETFROM:+1000
TZOFFSETTO:+1100
TZNAME:AEDT
DTSTART:20241005T160000
END:DAYLIGHT
BEGIN:STANDARD
TZOFFSETFROM:+1100
TZOFFSETTO:+1000
TZNAME:AEST
DTSTART:20250405T160000
END:STANDARD
BEGIN:DAYLIGHT
TZOFFSETFROM:+1000
TZOFFSETTO:+1100
TZNAME:AEDT
DTSTART:20251004T160000
END:DAYLIGHT
END:VTIMEZONE
BEGIN:VTIMEZONE
TZID:Australia/Perth
BEGIN:STANDARD
TZOFFSETFROM:+0800
TZOFFSETTO:+0800
TZNAME:AWST
DTSTART:20220101T000000
END:STANDARD
END:VTIMEZONE
BEGIN:VTIMEZONE
TZID:Australia/Adelaide
BEGIN:STANDARD
TZOFFSETFROM:+1030
TZOFFSETTO:+0930
TZNAME:ACST
DTSTART:20220402T163000
END:STANDARD
BEGIN:DAYLIGHT
TZOFFSETFROM:+0930
TZOFFSETTO:+1030
TZNAME:ACDT
DTSTART:20221001T163000
END:DAYLIGHT
BEGIN:STANDARD
TZOFFSETFROM:+1030
TZOFFSETTO:+0930
TZNAME:ACST
DTSTART:20230401T163000
END:STANDARD
BEGIN:DAYLIGHT
TZOFFSETFROM:+0930
TZOFFSETTO:+1030
TZNAME:ACDT
DTSTART:20230930T163000
END:DAYLIGHT
BEGIN:STANDARD
TZOFFSETFROM:+1030
TZOFFSETTO:+0930
TZNAME:ACST
DTSTART:20240406T163000
END:STANDARD
BEGIN:DAYLIGHT
TZOFFSETFROM:+0930
TZOFFSETTO:+1030
TZNAME:ACDT
DTSTART:20241005T163000
END:DAYLIGHT
BEGIN:STANDARD
TZOFFSETFROM:+1030
TZOFFSETTO:+0930
TZNAME:ACST
DTSTART:20250405T163000
END:STANDARD
BEGIN:DAYLIGHT
TZOFFSETFROM:+0930
TZOFFSETTO:+1030
TZNAME:ACDT
DTSTART:20251004T163000
END:DAYLIGHT
END:VTIMEZONE
BEGIN:VTIMEZONE
TZID:Africa/Abidjan
BEGIN:STANDARD
TZOFFSETFROM:+0000
TZOFFSETTO:+0000
TZNAME:GMT
DTSTART:20220101T000000
END:STANDARD
END:VTIMEZONE
BEGIN:VEVENT
DTSTART;TZID=Australia/Brisbane:20240524T083000
DTEND;TZID=Australia/Brisbane:20240526T160000
DTSTAMP:20260422T032510
CREATED:20251209T045648Z
LAST-MODIFIED:20251209T045755Z
UID:10000156-1716539400-1716739200@www.austrackcampers.com.au
SUMMARY:Mackay Expo
DESCRIPTION:Come see us at site OS103
URL:https://www.austrackcampers.com.au/event/mackay-expo/
LOCATION:Mackay Showgrounds\, Milton Street\, Mackay\, 4740\, Australia
END:VEVENT
BEGIN:VEVENT
DTSTART;TZID=Australia/Brisbane:20240517T083000
DTEND;TZID=Australia/Brisbane:20240519T160000
DTSTAMP:20260422T032510
CREATED:20251209T045648Z
LAST-MODIFIED:20251209T045755Z
UID:10000155-1715934600-1716134400@www.austrackcampers.com.au
SUMMARY:Townsville Expo
DESCRIPTION:Come see us at 0S110/OS181
URL:https://www.austrackcampers.com.au/event/townsville-expo/
LOCATION:Reid Park\, 95/55 Boundary Street\, Railway Estate\, QLD\, 4810\, Australia
END:VEVENT
BEGIN:VEVENT
DTSTART;TZID=Australia/Brisbane:20240516T090000
DTEND;TZID=Australia/Brisbane:20240518T160000
DTSTAMP:20260422T032510
CREATED:20251209T045648Z
LAST-MODIFIED:20251209T045755Z
UID:10000145-1715850000-1716048000@www.austrackcampers.com.au
SUMMARY:Norco Primex Field days
DESCRIPTION:
URL:https://www.austrackcampers.com.au/event/norco-primex-field-days-2/
LOCATION:Richmond Valley Events Centre\, Cassino Drive\, Casino\, NSW\, 2470\, Australia
CATEGORIES:Caravan and camping
END:VEVENT
BEGIN:VEVENT
DTSTART;TZID=Australia/Brisbane:20240516T090000
DTEND;TZID=Australia/Brisbane:20240518T160000
DTSTAMP:20260422T032510
CREATED:20251209T045648Z
LAST-MODIFIED:20251209T045755Z
UID:10000154-1715850000-1716048000@www.austrackcampers.com.au
SUMMARY:Norco Primex Field days
DESCRIPTION:Come see us at site H13-15
URL:https://www.austrackcampers.com.au/event/norco-primex-field-days/
LOCATION:Richmond Valley Events Centre\, Cassino Drive\, Casino\, NSW\, 2470\, Australia
END:VEVENT
BEGIN:VEVENT
DTSTART;TZID=Australia/Brisbane:20240510T083000
DTEND;TZID=Australia/Brisbane:20240512T160000
DTSTAMP:20260422T032510
CREATED:20251209T045648Z
LAST-MODIFIED:20251209T045755Z
UID:10000144-1715329800-1715529600@www.austrackcampers.com.au
SUMMARY:Cairns Expo
DESCRIPTION:
URL:https://www.austrackcampers.com.au/event/cairns-expo-2/
LOCATION:Cairns Showgrounds\, Scott Street\, Cairns\, QLD\, 4870\, Australia
CATEGORIES:Caravan and camping
END:VEVENT
BEGIN:VEVENT
DTSTART;TZID=Australia/Brisbane:20240510T083000
DTEND;TZID=Australia/Brisbane:20240512T160000
DTSTAMP:20260422T032510
CREATED:20251209T045648Z
LAST-MODIFIED:20251209T045755Z
UID:10000153-1715329800-1715529600@www.austrackcampers.com.au
SUMMARY:Cairns Expo
DESCRIPTION:Come see us at sites 178 & OS192\, OS198
URL:https://www.austrackcampers.com.au/event/cairns-expo/
LOCATION:Cairns Showgrounds\, Scott Street\, Cairns\, QLD\, 4870\, Australia
END:VEVENT
BEGIN:VEVENT
DTSTART;TZID=Australia/Brisbane:20240503T090000
DTEND;TZID=Australia/Brisbane:20240505T160000
DTSTAMP:20260422T032510
CREATED:20251209T045648Z
LAST-MODIFIED:20251209T045755Z
UID:10000143-1714726800-1714924800@www.austrackcampers.com.au
SUMMARY:Albury Wodonga Caravan Camping & 4WD Show
DESCRIPTION:Come see us at site 112/113/114
URL:https://www.austrackcampers.com.au/event/albury-wodonga-caravan-camping-4wd-show-3/
LOCATION:Albury Racing Club\, Fallon Street\, Albury\, 2640\, Australia
CATEGORIES:Caravan and camping
END:VEVENT
BEGIN:VEVENT
DTSTART;TZID=Australia/Brisbane:20240503T090000
DTEND;TZID=Australia/Brisbane:20240505T160000
DTSTAMP:20260422T032510
CREATED:20251209T045648Z
LAST-MODIFIED:20251209T045755Z
UID:10000152-1714726800-1714924800@www.austrackcampers.com.au
SUMMARY:Albury Wodonga Caravan Camping & 4WD Show
DESCRIPTION:Come see us at site 112-114
URL:https://www.austrackcampers.com.au/event/albury-wodonga-caravan-camping-4wd-show/
LOCATION:Albury Showground\, Fallon Street\, North Albury\, NSW\, 2640\, Australia
END:VEVENT
BEGIN:VEVENT
DTSTART;TZID=Australia/Sydney:20240416T093000
DTEND;TZID=Australia/Sydney:20240421T160000
DTSTAMP:20260422T032510
CREATED:20251209T045648Z
LAST-MODIFIED:20251209T045755Z
UID:10000151-1713259800-1713715200@www.austrackcampers.com.au
SUMMARY:NSW Caravan Camping Holiday Show
DESCRIPTION:Come see us at site 604
URL:https://www.austrackcampers.com.au/event/nsw-caravan-camping-holiday-show/
LOCATION:Rosehill Gardens Racecourse\, James Ruse Dr\, Rosehill\, 2142\, Australia
END:VEVENT
BEGIN:VEVENT
DTSTART;TZID=Australia/Sydney:20240416T093000
DTEND;TZID=Australia/Sydney:20240420T160000
DTSTAMP:20260422T032510
CREATED:20251209T045647Z
LAST-MODIFIED:20251209T045755Z
UID:10000142-1713259800-1713628800@www.austrackcampers.com.au
SUMMARY:NSW Caravan Camping Holiday Show (Rosehill)
DESCRIPTION:Come see us at site 604
URL:https://www.austrackcampers.com.au/event/nsw-caravan-camping-holiday-show-rosehill/
LOCATION:Rosehill Gardens Racecourse\, James Ruse Dr\, Rosehill\, 2142\, Australia
CATEGORIES:Caravan and camping
END:VEVENT
BEGIN:VEVENT
DTSTART;TZID=Australia/Brisbane:20240412T083000
DTEND;TZID=Australia/Brisbane:20240414T160000
DTSTAMP:20260422T032510
CREATED:20251209T045647Z
LAST-MODIFIED:20251209T045755Z
UID:10000141-1712910600-1713110400@www.austrackcampers.com.au
SUMMARY:Nambour Expo
DESCRIPTION:Come see us at site OS 128
URL:https://www.austrackcampers.com.au/event/nambour-expo-2/
LOCATION:Nambour Showgrounds\, Coronation Ave\, Nambour\, QLD\, 4560\, Australia
CATEGORIES:Caravan and camping
END:VEVENT
BEGIN:VEVENT
DTSTART;TZID=Australia/Brisbane:20240412T083000
DTEND;TZID=Australia/Brisbane:20240414T160000
DTSTAMP:20260422T032510
CREATED:20251209T045647Z
LAST-MODIFIED:20251209T045755Z
UID:10000150-1712910600-1713110400@www.austrackcampers.com.au
SUMMARY:Nambour Expo
DESCRIPTION:Come see us at site OS128
URL:https://www.austrackcampers.com.au/event/nambour-expo/
LOCATION:Nambour Showgrounds\, Coronation Ave\, Nambour\, QLD\, 4560\, Australia
END:VEVENT
BEGIN:VEVENT
DTSTART;TZID=Australia/Sydney:20240406T090000
DTEND;TZID=Australia/Sydney:20240407T160000
DTSTAMP:20260422T032510
CREATED:20251209T045647Z
LAST-MODIFIED:20251209T045755Z
UID:10000149-1712394000-1712505600@www.austrackcampers.com.au
SUMMARY:Coffs Coast 4WD\, Caravan and Outdoor Expo
DESCRIPTION:Come see us at site 101-104
URL:https://www.austrackcampers.com.au/event/coffs-coast-4wd-caravan-and-outdoor-expo/
LOCATION:Coffs Harbour Showground\, 123 Pacific Highway\, Coffs Harbour\, 2450\, Australia
END:VEVENT
BEGIN:VEVENT
DTSTART;TZID=Australia/Melbourne:20240405T100000
DTEND;TZID=Australia/Melbourne:20240407T160000
DTSTAMP:20260422T032510
CREATED:20251209T045647Z
LAST-MODIFIED:20251209T045755Z
UID:10000148-1712311200-1712505600@www.austrackcampers.com.au
SUMMARY:Ballarat Go 4X4 Expo
DESCRIPTION:Come see us at site 61
URL:https://www.austrackcampers.com.au/event/ballarat-go-4x4-expo/
LOCATION:Ballarat Showgrounds\, 6 Rosehill Road\, INVERMAY\, VIC\, 3352\, Australia
END:VEVENT
BEGIN:VEVENT
DTSTART;TZID=Australia/Perth:20240321T090000
DTEND;TZID=Australia/Perth:20240324T170000
DTSTAMP:20260422T032510
CREATED:20251209T045647Z
LAST-MODIFIED:20251209T045754Z
UID:10000147-1711011600-1711299600@www.austrackcampers.com.au
SUMMARY:Perth Caravan & Camping Show
DESCRIPTION:Come see us at site 314-315
URL:https://www.austrackcampers.com.au/event/perth-caravan-camping-show/
LOCATION:Claremont Showground\, 1 Graylands Road\, Claremont\, 3010\, Australia
END:VEVENT
BEGIN:VEVENT
DTSTART;TZID=Australia/Brisbane:20240315T090000
DTEND;TZID=Australia/Brisbane:20240317T160000
DTSTAMP:20260422T032510
CREATED:20251209T045647Z
LAST-MODIFIED:20251209T045754Z
UID:10000140-1710493200-1710691200@www.austrackcampers.com.au
SUMMARY:National 4X4 Outdoor Show (Brisbane) RNA Showgrounds
DESCRIPTION:Come see us at site A130
URL:https://www.austrackcampers.com.au/event/national-4x4-outdoor-show-brisbane-rna-showgrounds/
LOCATION:Brisbane Showgrounds\, 600 Gregory Terrace\, Bowen Hills\, QLD\, 4006\, Australia
CATEGORIES:Caravan and camping
END:VEVENT
BEGIN:VEVENT
DTSTART;TZID=Australia/Melbourne:20240308T100000
DTEND;TZID=Australia/Melbourne:20240311T160000
DTSTAMP:20260422T032510
CREATED:20251209T045647Z
LAST-MODIFIED:20251209T045754Z
UID:10000139-1709892000-1710172800@www.austrackcampers.com.au
SUMMARY:Mornington Outdoor Living & Caravan Expo
DESCRIPTION:Come see us at site 9-10
URL:https://www.austrackcampers.com.au/event/mornington-outdoor-living-caravan-expo/
LOCATION:Mornington Racecourse\, 320 Racecourse Rd\, Mornington\, 3931\, Australia
CATEGORIES:Caravan and camping
ATTACH;FMTTYPE=image/jpeg:https://www.austrackcampers.com.au/wp-content/uploads/2023/12/Mornington-Outdoor-Living-Caravan-Expo-jpg.webp
END:VEVENT
BEGIN:VEVENT
DTSTART;TZID=Australia/Brisbane:20240301T090000
DTEND;TZID=Australia/Brisbane:20240303T160000
DTSTAMP:20260422T032510
CREATED:20251209T045647Z
LAST-MODIFIED:20251209T045754Z
UID:10000137-1709283600-1709481600@www.austrackcampers.com.au
SUMMARY:Let's Go Gold Coast Caravan & Outdoor Expo
DESCRIPTION:
URL:https://www.austrackcampers.com.au/event/lets-go-gold-coast-caravan-outdoor-expo/
LOCATION:Heritage Bank Stadium\, Nerang-Broadbeach Rd\, Carrara\, 4211\, Australia
CATEGORIES:Caravan and camping
END:VEVENT
BEGIN:VEVENT
DTSTART;TZID=Australia/Sydney:20240301T090000
DTEND;TZID=Australia/Sydney:20240303T160000
DTSTAMP:20260422T032510
CREATED:20251209T045647Z
LAST-MODIFIED:20251209T045754Z
UID:10000138-1709283600-1709481600@www.austrackcampers.com.au
SUMMARY:Central West Caravan\, Camping and Outdoor show
DESCRIPTION:
URL:https://www.austrackcampers.com.au/event/central-west-caravan-camping-and-outdoor-show/
LOCATION:Orange Field Day Site\, 563 Borenore Road\, Borenore\, 2800\, Australia
CATEGORIES:Caravan and camping
END:VEVENT
BEGIN:VEVENT
DTSTART;TZID=Australia/Melbourne:20240221T093000
DTEND;TZID=Australia/Melbourne:20240225T160000
DTSTAMP:20260422T032510
CREATED:20251209T045647Z
LAST-MODIFIED:20251209T045754Z
UID:10000136-1708507800-1708876800@www.austrackcampers.com.au
SUMMARY:Victorian Caravan & Camping Supershow
DESCRIPTION:
URL:https://www.austrackcampers.com.au/event/victorian-caravan-camping-supershow/
LOCATION:Melbourne Showgrounds\, Epsom Road\, Ascot Vale\, VIC\, 3032\, Australia
CATEGORIES:Caravan and camping
END:VEVENT
BEGIN:VEVENT
DTSTART;TZID=Australia/Brisbane:20240216T083000
DTEND;TZID=Australia/Brisbane:20240218T160000
DTSTAMP:20260422T032510
CREATED:20251209T045647Z
LAST-MODIFIED:20251209T045754Z
UID:10000135-1708072200-1708272000@www.austrackcampers.com.au
SUMMARY:Moreton Bay Expo (Redcliffe)
DESCRIPTION:Come see us at site OS 166
URL:https://www.austrackcampers.com.au/event/moreton-bay-expo-redcliffe/
LOCATION:Redcliffe Showgrounds\, Scarborough Road\, Redcliffe\, 4020\, Australia
CATEGORIES:Caravan and camping
END:VEVENT
BEGIN:VEVENT
DTSTART;TZID=Australia/Adelaide:20240214T100000
DTEND;TZID=Australia/Adelaide:20240217T170000
DTSTAMP:20260422T032510
CREATED:20251209T045647Z
LAST-MODIFIED:20251209T045754Z
UID:10000134-1707904800-1708189200@www.austrackcampers.com.au
SUMMARY:Let’s Go SA – Caravan\, Camping & Outdoor Show
DESCRIPTION:Come see us at site H12
URL:https://www.austrackcampers.com.au/event/lets-go-sa-caravan-camping-outdoor-show/
LOCATION:Adelaide Showground\, Goodwood Road\, Wayville\, SA\, 5034\, Australia
CATEGORIES:Caravan and camping
END:VEVENT
BEGIN:VEVENT
DTSTART;TZID=Australia/Sydney:20240202T090000
DTEND;TZID=Australia/Sydney:20240204T160000
DTSTAMP:20260422T032510
CREATED:20251209T045646Z
LAST-MODIFIED:20251209T045754Z
UID:10000133-1706864400-1707062400@www.austrackcampers.com.au
SUMMARY:Newcastle Caravan Camping Lifestyle Expo
DESCRIPTION:Come see us at site 259 & 260
URL:https://www.austrackcampers.com.au/event/newcastle-caravan-camping-lifestyle-expo/
LOCATION:Newcastle Entertainment Centre & Showgrounds\, Brown Road\, Broadmeadow\, 2292\, Australia
CATEGORIES:Caravan and camping
END:VEVENT
BEGIN:VEVENT
DTSTART;TZID=Australia/Melbourne:20240119T100000
DTEND;TZID=Australia/Melbourne:20240121T160000
DTSTAMP:20260422T032510
CREATED:20251209T045646Z
LAST-MODIFIED:20251209T045754Z
UID:10000132-1705658400-1705852800@www.austrackcampers.com.au
SUMMARY:Geelong Outdoor Living & Caravan Expo
DESCRIPTION:Come see us at site C-211 -213
URL:https://www.austrackcampers.com.au/event/geelong-outdoor-living-caravan-expo/
LOCATION:Geelong Showground\, 79 Breakwater Road\, East Geelong\, 3220\, Australia
CATEGORIES:Caravan and camping
END:VEVENT
BEGIN:VEVENT
DTSTART;VALUE=DATE:20231201
DTEND;VALUE=DATE:20231204
DTSTAMP:20260422T032510
CREATED:20251209T045646Z
LAST-MODIFIED:20251209T045754Z
UID:10000074-1701388800-1701647999@www.austrackcampers.com.au
SUMMARY:Batemans Bay Caravan\,Camping & Leisure Expo
DESCRIPTION:Austrack Campers is excited to announce its participation in the upcoming Batemans Bay Caravan\, Camping & Leisure Expo. \nAs one of the leading providers of quality camper trailers and outdoor adventure gear\, Austrack Campers will showcase its latest models and innovative camping solutions at this highly anticipated event. \nWhether you’re a seasoned camper or new to the world of outdoor exploration\, our team will be on hand to provide expert advice\, answer questions\, and help you find the perfect camper trailer to suit your needs. Join us at the Batemans Bay Caravan\, Camping & Leisure Expo to discover the ultimate camping experience with Austrack Campers.
URL:https://www.austrackcampers.com.au/event/batemans-bay-caravancamping-leisure-expo/
LOCATION:Hanging Rock Sports Complex\, Hanging Rock Pl\, Batemans Bay\, NSW\, 2536\, Australia
END:VEVENT
BEGIN:VEVENT
DTSTART;TZID=Australia/Melbourne:20231124T100000
DTEND;TZID=Australia/Melbourne:20231126T160000
DTSTAMP:20260422T032510
CREATED:20251209T045646Z
LAST-MODIFIED:20251209T045754Z
UID:10000073-1700820000-1701014400@www.austrackcampers.com.au
SUMMARY:Gippsland Go 4X4 Expo
DESCRIPTION:We are thrilled to announce that Austrack Campers will be attending the highly anticipated Gippsland Go 4X4 Expo! Join us for a weekend filled with adventure\, off-road exploration\, and the latest in camping innovation. You’ll have the opportunity to see our incredible range of campers designed to take your outdoor experience to the next level. \nWhether you prefer rugged off-road models or luxurious family-friendly options\, we have the perfect camper to suit your camping style. Don’t miss out on expo-exclusive offers and promotions—visit us and discover features like robust off-road capabilities\, spacious interiors\, innovative storage solutions\, and more. \nIt’s not just about campers; the Gippsland Go 4X4 Expo is a celebration of everything 4×4\, with the latest off-road vehicles\, camping gear\, and accessories. Get ready for an unforgettable weekend of adventure and camaraderie. See you there!
URL:https://www.austrackcampers.com.au/event/gippsland-go-4x4-expo/
LOCATION:Sale Racecourse\, Maffra Road\, Sale\, VIC\, 3850\, Australia
CATEGORIES:Outdoor expo
END:VEVENT
BEGIN:VEVENT
DTSTART;VALUE=DATE:20231117
DTEND;VALUE=DATE:20231120
DTSTAMP:20260422T032510
CREATED:20251209T045646Z
LAST-MODIFIED:20251209T045754Z
UID:10000072-1700179200-1700438399@www.austrackcampers.com.au
SUMMARY:Bendigo Caravan and Camping Leisurefest
DESCRIPTION:Attention all outdoor enthusiasts in Bendigo! Get ready for an extraordinary adventure at the Bendigo Show. Austrack Campers is thrilled to announce our participation in this highly anticipated event. \nJoin us as we showcase our exceptional range of off-road Hybrid Off-road Caravans and off-road camper trailers\, designed to elevate your outdoor adventures to new heights. From thrilling 4WD journeys to tranquil camping getaways\, our campers are built to withstand any terrain while providing unmatched comfort. \nDon’t miss the opportunity to explore our “Built Tough\, Built to Last” campers and engage with our knowledgeable team. Whether you’re a seasoned camper or new to the outdoor lifestyle\, the Bendigo Show is the place to be. Mark your calendars and get ready for an unforgettable experience filled with adventure\, innovation\, and the joy of exploration. We can’t wait to meet you there!
URL:https://www.austrackcampers.com.au/event/bendigo-caravan-and-camping-leisurefest/
LOCATION:Apiam Bendigo Racecourse\, Heinz Street\, Ascot\, VIC\, 3551\, Australia
CATEGORIES:Caravan and camping
END:VEVENT
BEGIN:VEVENT
DTSTART;VALUE=DATE:20231117
DTEND;VALUE=DATE:20231120
DTSTAMP:20260422T032510
CREATED:20251209T045646Z
LAST-MODIFIED:20251209T045754Z
UID:10000071-1700179200-1700438399@www.austrackcampers.com.au
SUMMARY:Greater Sydney Caravan\,Camping & Leisure Expo (Hawkesbury)
DESCRIPTION:Calling all camping and leisure enthusiasts in the Greater Sydney area! Get ready for an incredible outdoor extravaganza at the Greater Sydney Caravan\, Camping & Leisure Expo (Hawkesbury). \nAustrack Campers is thrilled to announce our participation in this highly anticipated event. Join us as we showcase our exceptional range of off-road Hybrid Off-road Caravans and off-road camper trailers\, designed to take your outdoor adventures to new heights. From rugged 4WD journeys to serene camping getaways\, our campers are built to withstand any challenge while providing unparalleled comfort. \nDon’t miss the opportunity to explore our “Built Tough\, Built to Last” campers and chat with our knowledgeable team. Whether you’re a seasoned camper or new to the outdoor lifestyle\, the Greater Sydney Caravan\, Camping & Leisure Expo (Hawkesbury) is the place to be. \nMark your calendars and get ready for an unforgettable experience filled with adventure\, innovation\, and the joy of leisure. We look forward to seeing you there!
URL:https://www.austrackcampers.com.au/event/greater-sydney-caravancamping-leisure-expo-hawkesbury/
LOCATION:NSW
END:VEVENT
BEGIN:VEVENT
DTSTART;TZID=Australia/Perth:20231110T083000
DTEND;TZID=Australia/Perth:20231112T170000
DTSTAMP:20260422T032510
CREATED:20251209T045646Z
LAST-MODIFIED:20251209T045754Z
UID:10000070-1699605000-1699808400@www.austrackcampers.com.au
SUMMARY:Perth 4WD And Adventure Show
DESCRIPTION:Hold on tight\, folks! Austrack Campers is heading west for the ultimate adventure at the Perth 4WD and Adventure Show. Get ready to be blown away by our rugged and ready-to-explore campers as we make our mark on the wild west. \nFrom jaw-dropping 4WD tracks to breathtaking camping spots\, our “Built Tough\, Built to Last” campers are your ticket to thrilling escapades in the great outdoors. \nJoin us at the Perth 4WD and Adventure Show\, where the adrenaline flows and the fun never stops. Get up close and personal with our impressive range\, chat with our passionate team\, and let your imagination run wild with the possibilities of your next daring journey. Buckle up\, Perth adventurers – Austrack Campers is coming your way!
URL:https://www.austrackcampers.com.au/event/perth-4wd-and-adventure-show/
LOCATION:McCallum Park\, Garland Street\, Victoria Park\, WA\, 6100\, Australia
CATEGORIES:4wd and adventuring
END:VEVENT
BEGIN:VEVENT
DTSTART;TZID=Australia/Adelaide:20231027T090000
DTEND;TZID=Australia/Adelaide:20231029T170000
DTSTAMP:20260422T032510
CREATED:20251209T045646Z
LAST-MODIFIED:20251209T045754Z
UID:10000068-1698397200-1698598800@www.austrackcampers.com.au
SUMMARY:SA 4WD Adventure Show
DESCRIPTION:Calling all adventure-seeking 4WD enthusiasts! Brace yourselves for an adrenaline-pumping experience at the SA 4WD Adventure Show. We’re thrilled to announce that Austrack Campers will be making our debut appearance at this highly anticipated event. \nPrepare to be amazed as we showcase our exceptional range of off-road Hybrid Off-road Caravans and off-road camper trailers\, built to take on the toughest terrains and provide unmatched comfort on your expeditions. This marks our first time at the SA 4WD Adventure Show\, and we couldn’t be more excited to meet fellow outdoor enthusiasts like you. \nDon’t miss the chance to explore our “Built Tough\, Built to Last” campers and engage with our knowledgeable team. Join us at the SA 4WD Adventure Show for an unforgettable experience filled with adventure\, innovation\, and the spirit of exploration. We look forward to seeing you there!
URL:https://www.austrackcampers.com.au/event/sa-4wd-adventure-show/
LOCATION:Adelaide Showground\, Goodwood Road\, Wayville\, SA\, 5034\, Australia
CATEGORIES:4wd and adventuring
END:VEVENT
END:VCALENDAR