BEGIN:VCALENDAR
VERSION:2.0
PRODID:-//Offroad Hybrid Campers and Caravans - ECPv6.15.20//NONSGML v1.0//EN
CALSCALE:GREGORIAN
METHOD:PUBLISH
X-ORIGINAL-URL:https://www.austrackcampers.com.au
X-WR-CALDESC:Events for Offroad Hybrid Campers and Caravans
REFRESH-INTERVAL;VALUE=DURATION:PT1H
X-Robots-Tag:noindex
X-PUBLISHED-TTL:PT1H
BEGIN:VTIMEZONE
TZID:Asia/Shanghai
BEGIN:STANDARD
TZOFFSETFROM:+0800
TZOFFSETTO:+0800
TZNAME:CST
DTSTART:20210101T000000
END:STANDARD
END:VTIMEZONE
BEGIN:VTIMEZONE
TZID:UTC
BEGIN:STANDARD
TZOFFSETFROM:+0000
TZOFFSETTO:+0000
TZNAME:UTC
DTSTART:20210101T000000
END:STANDARD
END:VTIMEZONE
BEGIN:VTIMEZONE
TZID:Australia/Brisbane
BEGIN:STANDARD
TZOFFSETFROM:+1000
TZOFFSETTO:+1000
TZNAME:AEST
DTSTART:20200101T000000
END:STANDARD
END:VTIMEZONE
BEGIN:VEVENT
DTSTART;TZID=Asia/Shanghai:20221210T090000
DTEND;TZID=Asia/Shanghai:20221210T150000
DTSTAMP:20260423T042641
CREATED:20251209T045644Z
LAST-MODIFIED:20251209T045751Z
UID:10000031-1670662800-1670684400@www.austrackcampers.com.au
SUMMARY:Perth Showroom Official Grand Opening
DESCRIPTION:IT’S OFFICIAL! \nWe are set to open our doors in Western Australia on December 10\, 2022 from 9am. We are SO excited to be coming to you and showing off our range of camper trailers and Hybrid Off-road Caravans. \nTrust us\, you don’t want to miss out coming on this day as doing so\, you will go into the draw for your chance to win your very own Telegraph XP-Edition (pictured below). We will have food\, entertainment and fund and games for all. Bring the family along and make a day of it. \nWhat you need to know: \nOfficial Open Date: December 10\, 2022\nOpen times: 9am to 3pm\nAddress: 634 Casella Place\, Kewdale\, WA\, 6105 \nWe can’t wait to meet and greet you. \nSee you there!
URL:https://www.austrackcampers.com.au/event/perth-showroom-official-grand-opening/
LOCATION:634 Casella Pl\, Kewdale WA 6105\, Australia
END:VEVENT
BEGIN:VEVENT
DTSTART;TZID=UTC:20221021T170000
DTEND;TZID=UTC:20221023T170000
DTSTAMP:20260423T042641
CREATED:20251209T045644Z
LAST-MODIFIED:20251209T045751Z
UID:10000021-1666371600-1666544400@www.austrackcampers.com.au
SUMMARY:Austrack Campers at the 2022 Canberra Caravan\, Camping  and Lifestyle Expo
DESCRIPTION:Come along and check out over 120 exhibitors\, talk to the experts and compare the range. The Expo is set up in an all-weather venue with lots of indoor pavilions to explore exhibits as well as covered entertainment\, food and beverage outlets\, which are great no matter the weather. \nDon’t miss our stand at site 222. We will have our latest on show; including the Gibb 16 and Talawana X15.  \nThe 2022 Canberra Caravan Camping Lifestyle Expo – the biggest and best Canberra event for everything caravan and camping!
URL:https://www.austrackcampers.com.au/event/austrack-campers-at-the-2022-canberra-caravan-camping-and-lifestyle-expo/
LOCATION:Exhibition Park in Canberra\, Cnr Northbourne Av &\, Flemington Rd\, Mitchell\, ACT\, 2911\, Australia
END:VEVENT
BEGIN:VEVENT
DTSTART;TZID=Australia/Brisbane:20220624T100000
DTEND;TZID=Australia/Brisbane:20220626T170000
DTSTAMP:20260423T042641
CREATED:20251209T045644Z
LAST-MODIFIED:20251209T045751Z
UID:10000022-1656064800-1656262800@www.austrackcampers.com.au
SUMMARY:Austrack Campers at the Mildura Great Outdoor & 4X4 Expo
DESCRIPTION:It’s on again and we are exhibiting. Find us at Site 1 at the Mildura Great Outdoor and 4×4 Expo! \nThis is the one stop shop for every outdoor lifestyle and 4×4 enthusiast!  \nA family friendly event with plenty on offer for everyone! \nHere’s what you need to know?\n? Located at the Mildura Racecourse \n? Dates for the Expo are June 24 – 26 \n? Times are: Friday 10am – 5pm\, Saturday 10am – 5pm and Sunday 10am – 4pm. \n?️ Admission prices are: Adults $16\, Seniors and Concessions $13 and Under 16s are free.  \nThey accept Senior cards\, Pension Cards\, Veterans\, and Companion cards✔️ We do not accept Health care card or student card. \nFREE CAR PARKING!  \nUnfortunately they do not allow dogs (service dogs are allowed). \n? No pre ticket sales\, tickets can be purchased at the gate when you arrive. \n? Eftpos facilities available for entry AND cash is accepted \nChildren 16 and under are free but must be accompanied by an adult. \nHope to see you there!
URL:https://www.austrackcampers.com.au/event/austrack-campers-at-the-mildura-great-outdoor-4x4-expo/
LOCATION:Racecourse Rd\, Nichols Point VIC 3501\, Australia
END:VEVENT
BEGIN:VEVENT
DTSTART;TZID=Australia/Brisbane:20220618T100000
DTEND;TZID=Australia/Brisbane:20220618T140000
DTSTAMP:20260423T042641
CREATED:20251209T045644Z
LAST-MODIFIED:20251209T045751Z
UID:10000023-1655546400-1655560800@www.austrackcampers.com.au
SUMMARY:Camper Trailer of The Year 2022 Showcase
DESCRIPTION:You won’t want to miss this! The Camper Trailer of The Year Showcase Day is a must-see for any enthusiast who loves camper trailers and new technology\, and we’ll be there with our 2022 Tanami X15B. \nFREE ENTRY! \nCome check out what everyone is talking about. The Tanami X15B is the perfect camper to get out and off-road exploring our beautiful country with the entire family! \nWhere: BIG4 Sawtell Beach Holiday Park\nAddress: 5 Lyons Rd\, Sawtell NSW 2452\nWhen: 18th June 10AM to 2PM
URL:https://www.austrackcampers.com.au/event/camper-trailer-of-the-year-2022-showcase/
LOCATION:BIG4 Sawtell Beach Holiday Park
END:VEVENT
BEGIN:VEVENT
DTSTART;TZID=Australia/Brisbane:20220612T090000
DTEND;TZID=Australia/Brisbane:20220612T180000
DTSTAMP:20260423T042641
CREATED:20251209T045644Z
LAST-MODIFIED:20251209T045751Z
UID:10000020-1655024400-1655056800@www.austrackcampers.com.au
SUMMARY:Austrack Campers at the 2022 Let’s Go Queensland Caravan & Camping Supershow
DESCRIPTION:The biggest caravanning event in Queensland is coming to Brisbane Showgrounds from the 7 – 12 June 2022.  \nAustrack Campers will be exhibiting at site 2676 at the Let’s Go Queensland Caravan & Camping Supershow – an “Official Caravan Industry” event!  \nWe will display every one of our latest models\, including: \nHybrid Campers\nTanami X 11\nTanami X13\nTanami X15A – Extra Storage\nTanami X15B – Bunks Configuration\nTanami X15L \nHybrid Off-road Caravans\nGibb 16C\nGibb 16B \nCamper trailers\nSavanna X\nTelegraph X\nTelegraph LT\nPlenty X (new 2022 model)\nSimpson X \nWhether you are looking for an affordable camper trailer or a hybrid camper/caravan\, you just must visit Austrack Campers at site 2676. \nWe just may have a free gift for all new Austrackers who buy at the how. Ask our show team when you visit.
URL:https://www.austrackcampers.com.au/event/austrack-campers-at-the-2022-lets-go-queensland-caravan-camping-supershow/
LOCATION:Brisbane Showgrounds\, 600 Gregory Terrace\, Bowen Hills\, QLD\, 4006\, Australia
END:VEVENT
BEGIN:VEVENT
DTSTART;TZID=Australia/Brisbane:20220611T090000
DTEND;TZID=Australia/Brisbane:20220611T180000
DTSTAMP:20260423T042641
CREATED:20251209T045643Z
LAST-MODIFIED:20251209T045751Z
UID:10000028-1654938000-1654970400@www.austrackcampers.com.au
SUMMARY:Austrack Campers at the 2022 Let’s Go Queensland Caravan & Camping Supershow
DESCRIPTION:The biggest caravanning event in Queensland is coming to Brisbane Showgrounds from the 7 – 12 June 2022.  \nAustrack Campers will be exhibiting at site 2676 at the Let’s Go Queensland Caravan & Camping Supershow – an “Official Caravan Industry” event!  \nWe will display every one of our latest models\, including: \nHybrid Campers\nTanami X 11\nTanami X13\nTanami X15A – Extra Storage\nTanami X15B – Bunks Configuration\nTanami X15L \nHybrid Off-road Caravans\nGibb 16C\nGibb 16B \nCamper trailers\nSavanna X\nTelegraph X\nTelegraph LT\nPlenty X (new 2022 model)\nSimpson X \nWhether you are looking for an affordable camper trailer or a hybrid camper/caravan\, you just must visit Austrack Campers at site 2676. \nWe just may have a free gift for all new Austrackers who buy at the how. Ask our show team when you visit.
URL:https://www.austrackcampers.com.au/event/austrack-campers-at-the-2022-lets-go-queensland-caravan-camping-supershow-2/
LOCATION:Brisbane Showgrounds\, 600 Gregory Terrace\, Bowen Hills\, QLD\, 4006\, Australia
END:VEVENT
BEGIN:VEVENT
DTSTART;TZID=Australia/Brisbane:20220610T090000
DTEND;TZID=Australia/Brisbane:20220610T170000
DTSTAMP:20260423T042641
CREATED:20251209T045643Z
LAST-MODIFIED:20251209T045751Z
UID:10000027-1654851600-1654880400@www.austrackcampers.com.au
SUMMARY:Austrack Campers at the 2022 Let’s Go Queensland Caravan & Camping Supershow
DESCRIPTION:The biggest caravanning event in Queensland is coming to Brisbane Showgrounds from the 7 – 12 June 2022.  \nAustrack Campers will be exhibiting at site 2676 at the Let’s Go Queensland Caravan & Camping Supershow – an “Official Caravan Industry” event!  \nWe will display every one of our latest models\, including: \nHybrid Campers\nTanami X 11\nTanami X13\nTanami X15A – Extra Storage\nTanami X15B – Bunks Configuration\nTanami X15L \nHybrid Off-road Caravans\nGibb 16C\nGibb 16B \nCamper trailers\nSavanna X\nTelegraph X\nTelegraph LT\nPlenty X (new 2022 model)\nSimpson X \nWhether you are looking for an affordable camper trailer or a hybrid camper/caravan\, you just must visit Austrack Campers at site 2676. \nWe just may have a free gift for all new Austrackers who buy at the how. Ask our show team when you visit.
URL:https://www.austrackcampers.com.au/event/austrack-campers-at-the-2022-lets-go-queensland-caravan-camping-supershow-3/
LOCATION:Brisbane Showgrounds\, 600 Gregory Terrace\, Bowen Hills\, QLD\, 4006\, Australia
END:VEVENT
BEGIN:VEVENT
DTSTART;TZID=Australia/Brisbane:20220609T090000
DTEND;TZID=Australia/Brisbane:20220609T170000
DTSTAMP:20260423T042641
CREATED:20251209T045643Z
LAST-MODIFIED:20251209T045751Z
UID:10000026-1654765200-1654794000@www.austrackcampers.com.au
SUMMARY:Austrack Campers at the 2022 Let’s Go Queensland Caravan & Camping Supershow
DESCRIPTION:The biggest caravanning event in Queensland is coming to Brisbane Showgrounds from the 7 – 12 June 2022.  \nAustrack Campers will be exhibiting at site 2676 at the Let’s Go Queensland Caravan & Camping Supershow – an “Official Caravan Industry” event!  \nWe will display every one of our latest models\, including: \nHybrid Campers\nTanami X 11\nTanami X13\nTanami X15A – Extra Storage\nTanami X15B – Bunks Configuration\nTanami X15L \nHybrid Off-road Caravans\nGibb 16C\nGibb 16B \nCamper trailers\nSavanna X\nTelegraph X\nTelegraph LT\nPlenty X (new 2022 model)\nSimpson X \nWhether you are looking for an affordable camper trailer or a hybrid camper/caravan\, you just must visit Austrack Campers at site 2676. \nWe just may have a free gift for all new Austrackers who buy at the how. Ask our show team when you visit.
URL:https://www.austrackcampers.com.au/event/austrack-campers-at-the-2022-lets-go-queensland-caravan-camping-supershow-4/
LOCATION:Brisbane Showgrounds\, 600 Gregory Terrace\, Bowen Hills\, QLD\, 4006\, Australia
END:VEVENT
BEGIN:VEVENT
DTSTART;TZID=Australia/Brisbane:20220608T090000
DTEND;TZID=Australia/Brisbane:20220608T170000
DTSTAMP:20260423T042641
CREATED:20251209T045643Z
LAST-MODIFIED:20251209T045751Z
UID:10000025-1654678800-1654707600@www.austrackcampers.com.au
SUMMARY:Austrack Campers at the 2022 Let’s Go Queensland Caravan & Camping Supershow
DESCRIPTION:The biggest caravanning event in Queensland is coming to Brisbane Showgrounds from the 7 – 12 June 2022.  \nAustrack Campers will be exhibiting at site 2676 at the Let’s Go Queensland Caravan & Camping Supershow – an “Official Caravan Industry” event!  \nWe will display every one of our latest models\, including: \nHybrid Campers\nTanami X 11\nTanami X13\nTanami X15A – Extra Storage\nTanami X15B – Bunks Configuration\nTanami X15L \nHybrid Off-road Caravans\nGibb 16C\nGibb 16B \nCamper trailers\nSavanna X\nTelegraph X\nTelegraph LT\nPlenty X (new 2022 model)\nSimpson X \nWhether you are looking for an affordable camper trailer or a hybrid camper/caravan\, you just must visit Austrack Campers at site 2676. \nWe just may have a free gift for all new Austrackers who buy at the how. Ask our show team when you visit.
URL:https://www.austrackcampers.com.au/event/austrack-campers-at-the-2022-lets-go-queensland-caravan-camping-supershow-5/
LOCATION:Brisbane Showgrounds\, 600 Gregory Terrace\, Bowen Hills\, QLD\, 4006\, Australia
END:VEVENT
BEGIN:VEVENT
DTSTART;TZID=Australia/Brisbane:20220607T090000
DTEND;TZID=Australia/Brisbane:20220607T170000
DTSTAMP:20260423T042641
CREATED:20251209T045643Z
LAST-MODIFIED:20251209T045751Z
UID:10000024-1654592400-1654621200@www.austrackcampers.com.au
SUMMARY:Austrack Campers at the 2022 Let’s Go Queensland Caravan & Camping Supershow
DESCRIPTION:The biggest caravanning event in Queensland is coming to Brisbane Showgrounds from the 7 – 12 June 2022.  \nAustrack Campers will be exhibiting at site 2676 at the Let’s Go Queensland Caravan & Camping Supershow – an “Official Caravan Industry” event!  \nWe will display every one of our latest models\, including: \nHybrid Campers\nTanami X 11\nTanami X13\nTanami X15A – Extra Storage\nTanami X15B – Bunks Configuration\nTanami X15L \nHybrid Off-road Caravans\nGibb 16C\nGibb 16B \nCamper trailers\nSavanna X\nTelegraph X\nTelegraph LT\nPlenty X (new 2022 model)\nSimpson X \nWhether you are looking for an affordable camper trailer or a hybrid camper/caravan\, you just must visit Austrack Campers at site 2676. \nWe just may have a free gift for all new Austrackers who buy at the how. Ask our show team when you visit.
URL:https://www.austrackcampers.com.au/event/austrack-campers-at-the-2022-lets-go-queensland-caravan-camping-supershow-6/
LOCATION:Brisbane Showgrounds\, 600 Gregory Terrace\, Bowen Hills\, QLD\, 4006\, Australia
END:VEVENT
BEGIN:VEVENT
DTSTART;TZID=Australia/Brisbane:20220528T110000
DTEND;TZID=Australia/Brisbane:20220529T133000
DTSTAMP:20260423T042641
CREATED:20251209T045643Z
LAST-MODIFIED:20251209T045751Z
UID:10000036-1653735600-1653831000@www.austrackcampers.com.au
SUMMARY:4WD Driver Training with Your Camper
DESCRIPTION:Learn first-hand how to safely drive and tow in off-road conditions. \nProudly hosted by Austrack Academy and Facilitated by Weightcheck\, Tow-Ed QLD and Total Towing Setups.
URL:https://www.austrackcampers.com.au/event/4wd-driver-training-with-your-camper-2/
LOCATION:Geelong Showgrounds
ATTACH;FMTTYPE=image/jpeg:https://www.austrackcampers.com.au/wp-content/uploads/2021/12/14458_image_261228272_4579795265422531_9209560722232896474_n-jpg.webp
END:VEVENT
BEGIN:VEVENT
DTSTART;TZID=Australia/Brisbane:20220527T090000
DTEND;TZID=Australia/Brisbane:20220529T170000
DTSTAMP:20260423T042641
CREATED:20251209T045643Z
LAST-MODIFIED:20251209T045751Z
UID:10000038-1653642000-1653843600@www.austrackcampers.com.au
SUMMARY:Hunter Valley Caravan\, Camping\, 4wd\, Fish & Boat Show
DESCRIPTION:At site 151 – Come see the Austrack Campers team at the biggest show on the Rural Scene calendar at the Hunter Valley Caravan\, Camping\, 4WD\, Fish & Boat Show held in May each year at the Maitland showgrounds.  \nThe Hunter Valley Show has lead the way for Rural Scene’s Caravan\, Camping\, 4WD\, Fish & Boat shows\, being the first of its kind presented by the company for the first time in 1997. \nIts 25th year\, the Hunter Valley Show is a fantastic event for both exhibitors and visitors. \n9am – 5pm Friday & Saturday\n9am – 4pm Sunday
URL:https://www.austrackcampers.com.au/event/hunter-valley-caravan-camping-4wd-fish-boat-show/
LOCATION:Hunter Valley Caravan & Camping Show\, Maitland Showgrounds\, West Maitland\, AU
END:VEVENT
BEGIN:VEVENT
DTSTART;TZID=Australia/Brisbane:20220326T110000
DTEND;TZID=Australia/Brisbane:20220327T133000
DTSTAMP:20260423T042641
CREATED:20251209T045643Z
LAST-MODIFIED:20251209T045751Z
UID:10000035-1648292400-1648387800@www.austrackcampers.com.au
SUMMARY:4WD Driver Training with Your Camper
DESCRIPTION:Learn first-hand how to safely drive and tow in off-road conditions. \nProudly hosted by Austrack Academy and Facilitated by Weightcheck\, Tow-Ed QLD and Total Towing Setups.
URL:https://www.austrackcampers.com.au/event/4wd-driver-training-with-your-camper/
LOCATION:Geelong Showgrounds
ATTACH;FMTTYPE=image/jpeg:https://www.austrackcampers.com.au/wp-content/uploads/2021/12/14456_image_260206682_4579779672090757_5154205060667995634_n-jpg.webp
END:VEVENT
BEGIN:VEVENT
DTSTART;TZID=Australia/Brisbane:20220218T090000
DTEND;TZID=Australia/Brisbane:20220220T170000
DTSTAMP:20260423T042641
CREATED:20251209T045643Z
LAST-MODIFIED:20251209T045751Z
UID:10000034-1645174800-1645376400@www.austrackcampers.com.au
SUMMARY:Austrack Campers at the Moreton Bay Redcliffe Expo
DESCRIPTION:Discover a world of adventure at the 2022 Moreton Bay Expo and at the Austrack Campers site. Find us at OA375. \nCheck out info on holiday destinations\, boating and fishing\, 4×4’s & vehicle accessories\, camping gear & more. \nCome meet the team and view our latest and greatest range of campers and hybrids!
URL:https://www.austrackcampers.com.au/event/austrack-campers-at-the-moreton-bay-redcliffe-expo/
LOCATION:Redcliffe Showgrounds\, Scarborough Road\, Redcliffe\, 4020\, Australia
END:VEVENT
BEGIN:VEVENT
DTSTART;TZID=Australia/Brisbane:20220204T090000
DTEND;TZID=Australia/Brisbane:20220206T050000
DTSTAMP:20260423T042641
CREATED:20251209T045643Z
LAST-MODIFIED:20251209T045750Z
UID:10000037-1643965200-1644123600@www.austrackcampers.com.au
SUMMARY:Austrack Campers at the Newcastle Caravan Camping Lifestyle Expo
DESCRIPTION:The Newcastle Caravan Camping Holiday Expo is on for 3 big days. It’s the ultimate way to check out what caravan and camping is all about and the perfect place to plan your next getaway. \nAustrack Campers will be there with our range of campers on display. Come say hit to the team at Site 260.
URL:https://www.austrackcampers.com.au/event/austrack-campers-at-the-newcastle-caravan-camping-lifestyle-expo/
LOCATION:Newcastle Showground\, Donald St.\, Newcastle\, 2292\, AU
END:VEVENT
BEGIN:VEVENT
DTSTART;TZID=Australia/Brisbane:20211126T110000
DTEND;TZID=Australia/Brisbane:20211128T160000
DTSTAMP:20260423T042641
CREATED:20251209T045643Z
LAST-MODIFIED:20251209T045750Z
UID:10000033-1637924400-1638115200@www.austrackcampers.com.au
SUMMARY:Austrack Campers at the Great Outdoor & 4X4 Expo
DESCRIPTION:This three day event – is held at the Sale Racecourse will showcase everything from the latest Caravans\, Campervans\, Campertrailers and Hybrid campers\, 4WD’s and 4 x 4 accessories to Boats as well as fishing gear\, demonstrations and activities for the whole family.
URL:https://www.austrackcampers.com.au/event/austrack-campers-at-the-great-outdoor-4x4-expo/
LOCATION:Sale Racecourse\, Maffra Road\, Sale\, VIC\, 3850\, Australia
END:VEVENT
BEGIN:VEVENT
DTSTART;TZID=Australia/Brisbane:20211029T090000
DTEND;TZID=Australia/Brisbane:20211031T170000
DTSTAMP:20260423T042641
CREATED:20251209T045643Z
LAST-MODIFIED:20251209T045750Z
UID:10000032-1635498000-1635699600@www.austrackcampers.com.au
SUMMARY:Austrack Campers - 2021 Let’s Go Brisbane Caravan & Outdoor Sale
DESCRIPTION:Come on down and visit us at site 2609 in the Main Arena – Outdoors. We will have our fleet of hybrid\, forward-fold and roof-top campers on display. \nCome say hi to the team and ask about how they can help your camping dreams come true. \nRemember\, we also offer fantastic finance solutions through Austrack Finance. \nAustrack Campers – “Built Tough” “Built to Last”.
URL:https://www.austrackcampers.com.au/event/austrack-campers-2021-lets-go-brisbane-caravan-outdoor-sale/
LOCATION:Brisbane Showgrounds\, 600 Gregory Terrace\, Bowen Hills\, QLD\, 4006\, Australia
END:VEVENT
BEGIN:VEVENT
DTSTART;TZID=Australia/Brisbane:20210903T083000
DTEND;TZID=Australia/Brisbane:20210905T160000
DTSTAMP:20260423T042641
CREATED:20251209T045643Z
LAST-MODIFIED:20251209T045750Z
UID:10000030-1630657800-1630857600@www.austrackcampers.com.au
SUMMARY:2021 NEWCASTLE OUTDOOR ADVENTURE & MOTORING EXPO
DESCRIPTION:Get your outdoor adventure started! Austrack Campers are exhibiting at the 2021 Newcastle Outdoor Adventure and Motoring Expo. \nWe will have our latest and greatest on show\, including our Tanami X range of hybrid campers. \nThe expo will feature over 100 local and national companies\, including Boating\, Vehicles\, 4×4 and Camping Accessories\, Gadgets and a whole lot more. Plus daily entertainment includes Camp Oven Cooking with King Brown and Fishing and Casting demonstrations on the giant tank. \nBuy your tickets online – https://tickets.lup.com.au/newcastle-outdoor-expo-2021?cat=CAT-REG21
URL:https://www.austrackcampers.com.au/event/2021-newcastle-outdoor-adventure-motoring-expo/
LOCATION:Newcastle Entertainment Centre\, Brown Road\, Broadmeadow\, NSW\, 2292\, Australia
END:VEVENT
BEGIN:VEVENT
DTSTART;TZID=Australia/Brisbane:20210814T140000
DTEND;TZID=Australia/Brisbane:20210814T160000
DTSTAMP:20260423T042641
CREATED:20251209T045643Z
LAST-MODIFIED:20251209T045750Z
UID:10000029-1628949600-1628956800@www.austrackcampers.com.au
SUMMARY:Austrack Academy // Weight + Towing Seminar
DESCRIPTION:THIS EVENT IS HOSTED “EXCLUSIVELY” FOR AUSTRACK CAMPER OWNERS ONLY. YOU MUST OWN AN AUSTRACK CAMPER TO ATTEND. \nThe very first in a series of seminars Austrack Academy will be hosting. This is your chance to upskill your camping and learn more about weights and safe towing. \nWe’ll Cover: \n-> Weight Compliances (TBM\, GTM\, ATM)\n-> Vehicle Weight Compliances (BTC\, GVM\, GCM)\n-> Towing Equipment (Towbars\, Weight Distribution Hitches)\n-> Trailer Braking Systems\n-> Towing Mirrors\n-> Safe Driving Techniques and Practices\n-> Sway Control\n-> Pre-Departure Check Lists\n-> Caravan Loading – Getting It Right\n-> Question and Answer Open Forum
URL:https://www.austrackcampers.com.au/event/austrack-academy-weight-towing-seminar/
LOCATION:QLD
END:VEVENT
END:VCALENDAR