BEGIN:VCALENDAR
VERSION:2.0
PRODID:-//Offroad Hybrid Campers and Caravans - ECPv6.15.20//NONSGML v1.0//EN
CALSCALE:GREGORIAN
METHOD:PUBLISH
X-WR-CALNAME:Offroad Hybrid Campers and Caravans
X-ORIGINAL-URL:https://www.austrackcampers.com.au
X-WR-CALDESC:Events for Offroad Hybrid Campers and Caravans
REFRESH-INTERVAL;VALUE=DURATION:PT1H
X-Robots-Tag:noindex
X-PUBLISHED-TTL:PT1H
BEGIN:VTIMEZONE
TZID:Africa/Abidjan
BEGIN:STANDARD
TZOFFSETFROM:+0000
TZOFFSETTO:+0000
TZNAME:GMT
DTSTART:20220101T000000
END:STANDARD
END:VTIMEZONE
BEGIN:VEVENT
DTSTART;TZID=Africa/Abidjan:20230825T083000
DTEND;TZID=Africa/Abidjan:20230827T160000
DTSTAMP:20260421T084726
CREATED:20251209T045645Z
LAST-MODIFIED:20251209T045753Z
UID:10000057-1692952200-1693152000@www.austrackcampers.com.au
SUMMARY:Newcastle Outdoor Adventure & Motoring Expo
DESCRIPTION:Join us at the Newcastle Outdoor Adventure Expo\, a thrilling event that brings together outdoor enthusiasts and industry professionals. Don’t miss the chance to visit Austrack Campers\, where you can explore their durable and innovative camper trailers. \nDiscover the perfect companion for your next adventure and meet their knowledgeable team. See you at the show!
URL:https://www.austrackcampers.com.au/event/newcastle-outdoor-adventure-motoring-expo/
LOCATION:Newcastle Entertainment Centre\, Brown Road\, Broadmeadow\, NSW\, 2292\, Australia
CATEGORIES:Outdoor adventures
END:VEVENT
END:VCALENDAR